BEGIN:VCALENDAR
VERSION:2.0
PRODID:-//achurchnearyou.com//eventfeed//EN
CALSCALE:GREGORIAN
METHOD:PUBLISH
X-WR-TIMEZONE:UTC
BEGIN:VEVENT
SUMMARY:Group Holy Communion & Ashing
DTSTART:20260218T100000Z
DTEND:20260218T110000Z
DTSTAMP:20260421T223035Z
UID:12767482026-02-18 10:00:00+00:00achurchnearyou
CATEGORIES:
DESCRIPTION:Please do join us at this special Service of Reflection.  Ever
 yone is welcome.
GEO:-2.578472;52.499009
LOCATION:Ditton Priors Church
URL:https://www.achurchnearyou.com/church/10502/service-and-events/events/
 1276748/
END:VEVENT
END:VCALENDAR
