BEGIN:VCALENDAR
VERSION:2.0
PRODID:-//achurchnearyou.com//eventfeed//EN
CALSCALE:GREGORIAN
METHOD:PUBLISH
X-WR-TIMEZONE:UTC
BEGIN:VEVENT
SUMMARY:CHRISTMAS DAY FAMILY COMMUNION SERVICE
DTSTART:20251225T100000Z
DTEND:20251225T110000Z
DTSTAMP:20260425T234407Z
UID:12460152025-12-25 10:00:00+00:00achurchnearyou
CATEGORIES:
DESCRIPTION:Holy Communion service for the family Christmas Day 10:00am
GEO:-2.738288;52.505652
LOCATION:Eaton-under-Heywood: St Edith
URL:https://www.achurchnearyou.com/church/10515/service-and-events/events/
 1246015/
END:VEVENT
END:VCALENDAR
