BEGIN:VCALENDAR
VERSION:2.0
PRODID:-//achurchnearyou.com//eventfeed//EN
CALSCALE:GREGORIAN
METHOD:PUBLISH
X-WR-TIMEZONE:UTC
BEGIN:VEVENT
SUMMARY:Holy Communion
DTSTART;TZID=Europe/London:20260503T093000
DTEND;TZID=Europe/London:20260503T103000
DTSTAMP:20260424T062048Z
UID:9440442026-05-03 09:30:00+01:00achurchnearyou
CATEGORIES:
DESCRIPTION:A service of Holy Communion\, with hymns\, sermon\, and prayer
 s. All welcome.
GEO:-2.616667;52.133146
LOCATION:Felton: St Michael the Archangel
URL:https://www.achurchnearyou.com/church/10525/service-and-events/events/
 944044/
END:VEVENT
BEGIN:VEVENT
SUMMARY:Holy Communion
DTSTART;TZID=Europe/London:20260607T093000
DTEND;TZID=Europe/London:20260607T103000
DTSTAMP:20260424T062048Z
UID:9440442026-06-07 09:30:00+01:00achurchnearyou
CATEGORIES:
DESCRIPTION:A service of Holy Communion\, with hymns\, sermon\, and prayer
 s. All welcome.
GEO:-2.616667;52.133146
LOCATION:Felton: St Michael the Archangel
URL:https://www.achurchnearyou.com/church/10525/service-and-events/events/
 944044/
END:VEVENT
BEGIN:VEVENT
SUMMARY:Holy Communion
DTSTART;TZID=Europe/London:20260705T093000
DTEND;TZID=Europe/London:20260705T103000
DTSTAMP:20260424T062048Z
UID:9440442026-07-05 09:30:00+01:00achurchnearyou
CATEGORIES:
DESCRIPTION:A service of Holy Communion\, with hymns\, sermon\, and prayer
 s. All welcome.
GEO:-2.616667;52.133146
LOCATION:Felton: St Michael the Archangel
URL:https://www.achurchnearyou.com/church/10525/service-and-events/events/
 944044/
END:VEVENT
BEGIN:VEVENT
SUMMARY:Holy Communion
DTSTART;TZID=Europe/London:20260906T093000
DTEND;TZID=Europe/London:20260906T103000
DTSTAMP:20260424T062048Z
UID:9440442026-09-06 09:30:00+01:00achurchnearyou
CATEGORIES:
DESCRIPTION:A service of Holy Communion\, with hymns\, sermon\, and prayer
 s. All welcome.
GEO:-2.616667;52.133146
LOCATION:Felton: St Michael the Archangel
URL:https://www.achurchnearyou.com/church/10525/service-and-events/events/
 944044/
END:VEVENT
BEGIN:VEVENT
SUMMARY:Holy Communion
DTSTART;TZID=Europe/London:20261004T093000
DTEND;TZID=Europe/London:20261004T103000
DTSTAMP:20260424T062048Z
UID:9440442026-10-04 09:30:00+01:00achurchnearyou
CATEGORIES:
DESCRIPTION:A service of Holy Communion\, with hymns\, sermon\, and prayer
 s. All welcome.
GEO:-2.616667;52.133146
LOCATION:Felton: St Michael the Archangel
URL:https://www.achurchnearyou.com/church/10525/service-and-events/events/
 944044/
END:VEVENT
BEGIN:VEVENT
SUMMARY:Holy Communion
DTSTART;TZID=Europe/London:20261101T093000
DTEND;TZID=Europe/London:20261101T103000
DTSTAMP:20260424T062048Z
UID:9440442026-11-01 09:30:00+00:00achurchnearyou
CATEGORIES:
DESCRIPTION:A service of Holy Communion\, with hymns\, sermon\, and prayer
 s. All welcome.
GEO:-2.616667;52.133146
LOCATION:Felton: St Michael the Archangel
URL:https://www.achurchnearyou.com/church/10525/service-and-events/events/
 944044/
END:VEVENT
BEGIN:VEVENT
SUMMARY:Holy Communion
DTSTART;TZID=Europe/London:20270103T093000
DTEND;TZID=Europe/London:20270103T103000
DTSTAMP:20260424T062048Z
UID:9440442027-01-03 09:30:00+00:00achurchnearyou
CATEGORIES:
DESCRIPTION:A service of Holy Communion\, with hymns\, sermon\, and prayer
 s. All welcome.
GEO:-2.616667;52.133146
LOCATION:Felton: St Michael the Archangel
URL:https://www.achurchnearyou.com/church/10525/service-and-events/events/
 944044/
END:VEVENT
BEGIN:VEVENT
SUMMARY:Holy Communion
DTSTART;TZID=Europe/London:20270207T093000
DTEND;TZID=Europe/London:20270207T103000
DTSTAMP:20260424T062048Z
UID:9440442027-02-07 09:30:00+00:00achurchnearyou
CATEGORIES:
DESCRIPTION:A service of Holy Communion\, with hymns\, sermon\, and prayer
 s. All welcome.
GEO:-2.616667;52.133146
LOCATION:Felton: St Michael the Archangel
URL:https://www.achurchnearyou.com/church/10525/service-and-events/events/
 944044/
END:VEVENT
BEGIN:VEVENT
SUMMARY:Holy Communion
DTSTART;TZID=Europe/London:20270307T093000
DTEND;TZID=Europe/London:20270307T103000
DTSTAMP:20260424T062048Z
UID:9440442027-03-07 09:30:00+00:00achurchnearyou
CATEGORIES:
DESCRIPTION:A service of Holy Communion\, with hymns\, sermon\, and prayer
 s. All welcome.
GEO:-2.616667;52.133146
LOCATION:Felton: St Michael the Archangel
URL:https://www.achurchnearyou.com/church/10525/service-and-events/events/
 944044/
END:VEVENT
BEGIN:VEVENT
SUMMARY:Holy Communion
DTSTART;TZID=Europe/London:20270404T093000
DTEND;TZID=Europe/London:20270404T103000
DTSTAMP:20260424T062048Z
UID:9440442027-04-04 09:30:00+01:00achurchnearyou
CATEGORIES:
DESCRIPTION:A service of Holy Communion\, with hymns\, sermon\, and prayer
 s. All welcome.
GEO:-2.616667;52.133146
LOCATION:Felton: St Michael the Archangel
URL:https://www.achurchnearyou.com/church/10525/service-and-events/events/
 944044/
END:VEVENT
END:VCALENDAR
