BEGIN:VCALENDAR
VERSION:2.0
PRODID:-//achurchnearyou.com//eventfeed//EN
CALSCALE:GREGORIAN
METHOD:PUBLISH
X-WR-TIMEZONE:UTC
BEGIN:VEVENT
SUMMARY:Holy Communion for Maundy Thursday
DTSTART;TZID=Europe/London:20260402T183000
DTEND;TZID=Europe/London:20260402T193000
DTSTAMP:20260424T103059Z
UID:13173751775151000.0achurchnearyou
CATEGORIES:
DESCRIPTION:A service of Holy Communion with optional feet or hand washing
 \, calling to mind Jesus washing his disciples' feet at the Last Supper. A
 ll are most welcome to this service.
LOCATION:Sutton St Michael: St Michael
URL:https://www.achurchnearyou.com/church/10525/service-and-events/events/
 1317375/
END:VEVENT
BEGIN:VEVENT
SUMMARY:Online Morning Prayer and Meditation for Good Friday
DTSTART;TZID=Europe/London:20260403T091500
DTEND;TZID=Europe/London:20260403T100000
DTSTAMP:20260424T103059Z
UID:13173861775204100.0achurchnearyou
CATEGORIES:
DESCRIPTION:Join us online to begin our services marking the beginning of 
 Good Friday\, with prayers and meditations on the Passion of our Lord.  He
 ld on zoom.  All welcome.
LOCATION:Online - see link
URL:https://us02web.zoom.us/j/84381492629?pwd=YUhxVGd0UmZjbURVYnYvNVpqaXhl
 Zz09
END:VEVENT
BEGIN:VEVENT
SUMMARY:Last Hour Meditation for Good Friday
DTSTART;TZID=Europe/London:20260403T150000
DTEND;TZID=Europe/London:20260403T160000
DTSTAMP:20260424T103059Z
UID:10399261775224800.0achurchnearyou
CATEGORIES:
DESCRIPTION:A reflective and moving service\, marking Jesus' abandonment a
 nd lonely death on the cross.
LOCATION:Bodenham: St Michael & All Angels
URL:https://www.achurchnearyou.com/church/10525/service-and-events/events/
 1039926/
END:VEVENT
BEGIN:VEVENT
SUMMARY:Vigil and First Communion of Easter
DTSTART;TZID=Europe/London:20260404T170000
DTEND;TZID=Europe/London:20260404T180000
DTSTAMP:20260424T103059Z
UID:9327611775318400.0achurchnearyou
CATEGORIES:
DESCRIPTION:Join us as the light fades on Holy Saturday as we keep vigil\,
  waiting to light the first fire of Easter and celebrate the resurrection 
 of Jesus Christ. Bringing the newly kindled paschal (Easter) candle into t
 he church is followed by our first Easter Communion. All are most welcome\
 , refreshments will be served afterward.
LOCATION:Preston Wynne: Holy Trinity
URL:https://www.achurchnearyou.com/church/10525/service-and-events/events/
 932761/
END:VEVENT
BEGIN:VEVENT
SUMMARY:Easter Day Communion
DTSTART;TZID=Europe/London:20260405T093000
DTEND;TZID=Europe/London:20260405T103000
DTSTAMP:20260424T103059Z
UID:8289631775377800.0achurchnearyou
CATEGORIES:
DESCRIPTION:He is risen: alleluia! Join us to celebrate Jesus Christ's res
 urrection. A service of Holy Communion.  All most welcome!
LOCATION:Felton: St Michael the Archangel
URL:https://www.achurchnearyou.com/church/10525/service-and-events/events/
 828963/
END:VEVENT
BEGIN:VEVENT
SUMMARY:Group Communion Service at Bodenham
DTSTART;TZID=Europe/London:20260412T103000
DTEND;TZID=Europe/London:20260412T113000
DTSTAMP:20260424T103059Z
UID:13173641775986200.0achurchnearyou
CATEGORIES:
DESCRIPTION:All seven of our church congregations gather to meet God in wo
 rd\, prayer\, sacrament and song.  All most welcome.
LOCATION:Bodenham: St Michael & All Angels
URL:https://www.achurchnearyou.com/church/10525/service-and-events/events/
 1317364/
END:VEVENT
BEGIN:VEVENT
SUMMARY:Holy Communion
DTSTART;TZID=Europe/London:20260503T093000
DTEND;TZID=Europe/London:20260503T103000
DTSTAMP:20260424T103059Z
UID:9440441777797000.0achurchnearyou
CATEGORIES:
DESCRIPTION:A service of Holy Communion\, with hymns\, sermon\, and prayer
 s. All welcome.
GEO:-2.616667;52.133146
LOCATION:Felton: St Michael the Archangel
URL:https://www.achurchnearyou.com/church/10525/service-and-events/events/
 944044/
END:VEVENT
BEGIN:VEVENT
SUMMARY:Holy Communion
DTSTART;TZID=Europe/London:20260607T093000
DTEND;TZID=Europe/London:20260607T103000
DTSTAMP:20260424T103059Z
UID:9440441780821000.0achurchnearyou
CATEGORIES:
DESCRIPTION:A service of Holy Communion\, with hymns\, sermon\, and prayer
 s. All welcome.
GEO:-2.616667;52.133146
LOCATION:Felton: St Michael the Archangel
URL:https://www.achurchnearyou.com/church/10525/service-and-events/events/
 944044/
END:VEVENT
BEGIN:VEVENT
SUMMARY:Holy Communion
DTSTART;TZID=Europe/London:20260705T093000
DTEND;TZID=Europe/London:20260705T103000
DTSTAMP:20260424T103059Z
UID:9440441783240200.0achurchnearyou
CATEGORIES:
DESCRIPTION:A service of Holy Communion\, with hymns\, sermon\, and prayer
 s. All welcome.
GEO:-2.616667;52.133146
LOCATION:Felton: St Michael the Archangel
URL:https://www.achurchnearyou.com/church/10525/service-and-events/events/
 944044/
END:VEVENT
BEGIN:VEVENT
SUMMARY:Group Communion Service for St James' Day
DTSTART;TZID=Europe/London:20260726T103000
DTEND;TZID=Europe/London:20260726T113000
DTSTAMP:20260424T103059Z
UID:13174661785058200.0achurchnearyou
CATEGORIES:
DESCRIPTION:All seven church congregations gather together at Ss Brigid an
 d James Amberley to celebrate one of their co-patron saints.  We meet God 
 in word\, prayer and sacrament and give thanks.
LOCATION:Amberley: Ss Brigid and James
URL:https://www.achurchnearyou.com/church/10525/service-and-events/events/
 1317466/
END:VEVENT
BEGIN:VEVENT
SUMMARY:Holy Communion
DTSTART;TZID=Europe/London:20260906T093000
DTEND;TZID=Europe/London:20260906T103000
DTSTAMP:20260424T103059Z
UID:9440441788683400.0achurchnearyou
CATEGORIES:
DESCRIPTION:A service of Holy Communion\, with hymns\, sermon\, and prayer
 s. All welcome.
GEO:-2.616667;52.133146
LOCATION:Felton: St Michael the Archangel
URL:https://www.achurchnearyou.com/church/10525/service-and-events/events/
 944044/
END:VEVENT
END:VCALENDAR
