BEGIN:VCALENDAR
VERSION:2.0
PRODID:-//achurchnearyou.com//eventfeed//EN
CALSCALE:GREGORIAN
METHOD:PUBLISH
X-WR-TIMEZONE:UTC
BEGIN:VEVENT
SUMMARY:Ash Wednesday
DTSTART:20250305T190000Z
DTEND:20250305T200000Z
DTSTAMP:20260420T052102Z
UID:11643952025-03-05 19:00:00+00:00achurchnearyou
CATEGORIES:
DESCRIPTION:Holy communion with ashing at Highley St Mary's Church
GEO:-2.38192;52.446927
LOCATION:St Mary’s\, Highley
URL:https://www.achurchnearyou.com/church/10558/service-and-events/events/
 1164395/
END:VEVENT
END:VCALENDAR
