BEGIN:VCALENDAR
VERSION:2.0
PRODID:-//achurchnearyou.com//eventfeed//EN
CALSCALE:GREGORIAN
METHOD:PUBLISH
X-WR-TIMEZONE:UTC
BEGIN:VEVENT
SUMMARY:Patronal Festival Holy Communion
DTSTART:20250622T080000Z
DTEND:20250622T090000Z
DTSTAMP:20260421T014606Z
UID:12062732025-06-22 08:00:00+00:00achurchnearyou
CATEGORIES:
DESCRIPTION:One week after Trinity Sunday and we will be celebrating  our 
 patronal festival on Sunday 22nd June at 9am. All welcome to join us for t
 he service and for refreshments afterward.
GEO:-2.974704;52.607174
LOCATION:Hope and Shelve Parish - Holy Trinity\, Hope
URL:https://www.achurchnearyou.com/church/10561/service-and-events/events/
 1206273/
END:VEVENT
END:VCALENDAR
