BEGIN:VCALENDAR
VERSION:2.0
PRODID:-//achurchnearyou.com//eventfeed//EN
CALSCALE:GREGORIAN
METHOD:PUBLISH
X-WR-TIMEZONE:UTC
BEGIN:VEVENT
SUMMARY:Treasure Hunters
DTSTART:20250810T090000Z
DTEND:20250810T100000Z
DTSTAMP:20260424T165859Z
UID:11669822025-08-10 09:00:00+00:00achurchnearyou
CATEGORIES:
DESCRIPTION:Let's learn about the treasure we can store up in heaven and t
 hen worship and praise God  think about how we live our lives as members o
 f God's Kingdom. Time to learn\; time to think\; time to pray for ourselve
 s\, our community and our world.
GEO:-2.689062;51.869988
LOCATION:Christ Church
URL:https://www.achurchnearyou.com/church/10618/service-and-events/events/
 1166982/
END:VEVENT
END:VCALENDAR
