BEGIN:VCALENDAR
VERSION:2.0
PRODID:-//achurchnearyou.com//eventfeed//EN
CALSCALE:GREGORIAN
METHOD:PUBLISH
X-WR-TIMEZONE:UTC
BEGIN:VEVENT
SUMMARY:Good Friday - Reflections on the Stations of the Cross
DTSTART:20260403T093000Z
DTEND:20260403T104500Z
DTSTAMP:20260424T193820Z
UID:13080932026-04-03 09:30:00+00:00achurchnearyou
CATEGORIES:
DESCRIPTION:Come and be part of our Good Friday reflections in art and mus
 ic of Jesus' final journey to the cross\, death and laying in a tomb on th
 is most holy Friday.
LOCATION:Much Birch Community Hall
URL:https://www.achurchnearyou.com/church/10621/service-and-events/events/
 1308093/
END:VEVENT
END:VCALENDAR
