BEGIN:VCALENDAR
VERSION:2.0
PRODID:-//achurchnearyou.com//eventfeed//EN
CALSCALE:GREGORIAN
METHOD:PUBLISH
X-WR-TIMEZONE:UTC
BEGIN:VEVENT
SUMMARY:Gentle Evening Service of Compline for Holy Week
DTSTART;TZID=Europe/London:20260401T190000
DTEND;TZID=Europe/London:20260401T193000
DTSTAMP:20260425T233338Z
UID:12957961775066400.0achurchnearyou
CATEGORIES:
DESCRIPTION:Short service starting at 7 pm.
GEO:-2.582492;52.342023
LOCATION:St John the Baptist\, Nash
URL:https://www.achurchnearyou.com/church/10667/service-and-events/events/
 1295796/
END:VEVENT
BEGIN:VEVENT
SUMMARY:Easter Sunday Service of Holy Communion at Our Sister Church in Bo
 raston
DTSTART;TZID=Europe/London:20260404T093000
DTEND;TZID=Europe/London:20260404T103000
DTSTAMP:20260425T233338Z
UID:12958691775291400.0achurchnearyou
CATEGORIES:
DESCRIPTION:Please note the earlier-than-usual start time at 9.30 am.
LOCATION:Boraston Church
URL:https://www.achurchnearyou.com/church/10667/service-and-events/events/
 1295869/
END:VEVENT
BEGIN:VEVENT
SUMMARY:Holy Communion / Morning Prayer
DTSTART;TZID=Europe/London:20260503T110000
DTEND;TZID=Europe/London:20260503T120000
DTSTAMP:20260425T233338Z
UID:4850781777802400.0achurchnearyou
CATEGORIES:
DESCRIPTION:Services are usually held on the 1st Sunday in every month\, a
 lternating between Holy Communion and Morning PrayerAll are modern languag
 e services - usually Common Worship or Celtic.  We have a service at our s
 ister church in Boraston (WR15 8LH) on the 4th Sunday.\nIt is our sister c
 hurch's turn to host this year's Easter Sunday service\, so Holy Communion
  on April 5th will be held at Boraston Church (WR15 8LH).
GEO:-2.582492;52.342023
LOCATION:St John the Baptist\, Nash
URL:https://www.achurchnearyou.com/church/10667/service-and-events/events/
 485078/
END:VEVENT
BEGIN:VEVENT
SUMMARY:Plant Sale - 2.30 to 4.30 pm on Sunday May 10th
DTSTART;TZID=Europe/London:20260510T143000
DTEND;TZID=Europe/London:20260510T163000
DTSTAMP:20260425T233338Z
UID:13236401778419800.0achurchnearyou
CATEGORIES:
DESCRIPTION:This is our annual Plant Sale to raise funds for the running c
 osts of the two Listed churches in our parish.  There will be hundreds of 
 plants\, with tea and cake - but please note we have no WiFi at St John th
 e Baptist Church\, so please bring cash.
GEO:-2.582492;52.342023
LOCATION:St John the Baptist\, Nash
URL:https://www.achurchnearyou.com/church/10667/service-and-events/events/
 1323640/
END:VEVENT
BEGIN:VEVENT
SUMMARY:Holy Communion / Morning Prayer
DTSTART;TZID=Europe/London:20260607T110000
DTEND;TZID=Europe/London:20260607T120000
DTSTAMP:20260425T233338Z
UID:4850781780826400.0achurchnearyou
CATEGORIES:
DESCRIPTION:Services are usually held on the 1st Sunday in every month\, a
 lternating between Holy Communion and Morning PrayerAll are modern languag
 e services - usually Common Worship or Celtic.  We have a service at our s
 ister church in Boraston (WR15 8LH) on the 4th Sunday.\nIt is our sister c
 hurch's turn to host this year's Easter Sunday service\, so Holy Communion
  on April 5th will be held at Boraston Church (WR15 8LH).
GEO:-2.582492;52.342023
LOCATION:St John the Baptist\, Nash
URL:https://www.achurchnearyou.com/church/10667/service-and-events/events/
 485078/
END:VEVENT
BEGIN:VEVENT
SUMMARY:Floral Art Workshop at Nash Village Hall
DTSTART;TZID=Europe/London:20260613T100000
DTEND;TZID=Europe/London:20260613T150000
DTSTAMP:20260425T233338Z
UID:13214251781341200.0achurchnearyou
CATEGORIES:
DESCRIPTION:Introducing the first community activity from the National Lot
 tery Heritage Fund project at St John the Baptist\, Nash. Join local artis
 t Ann Wallace for a free Art Workshop celebrating the wildflowers in the c
 hurchyard.  Book your free place by email (nashandborastonpcc@icloud.com) 
 or phone / WhatsApp (07784 064383).  Places are limited\, so early booking
  is essential.
LOCATION:Nash Village Hall
URL:https://www.achurchnearyou.com/church/10667/service-and-events/events/
 1321425/
END:VEVENT
BEGIN:VEVENT
SUMMARY:Strawberry Tea on Saturday June 28th from 3 - 5 pm
DTSTART;TZID=Europe/London:20260627T150000
DTEND;TZID=Europe/London:20260627T170000
DTSTAMP:20260425T233338Z
UID:13236421782568800.0achurchnearyou
CATEGORIES:
DESCRIPTION:A quintessential British afternoon tea with strawberries and c
 ream and wonderful home baked cakes on the lawns of Nash Court.   Parking 
 and toilets in the field adjacent to St John the Baptist Church (SY8 3DQ).
   Admission is £7 per person (£5 for children under 10)/  Grand prize dr
 aw - tickets are £1 each.
GEO:-2.582492;52.342023
LOCATION:St John the Baptist\, Nash
URL:https://www.achurchnearyou.com/church/10667/service-and-events/events/
 1323642/
END:VEVENT
BEGIN:VEVENT
SUMMARY:Holy Communion / Morning Prayer
DTSTART;TZID=Europe/London:20260705T110000
DTEND;TZID=Europe/London:20260705T120000
DTSTAMP:20260425T233338Z
UID:4850781783245600.0achurchnearyou
CATEGORIES:
DESCRIPTION:Services are usually held on the 1st Sunday in every month\, a
 lternating between Holy Communion and Morning PrayerAll are modern languag
 e services - usually Common Worship or Celtic.  We have a service at our s
 ister church in Boraston (WR15 8LH) on the 4th Sunday.\nIt is our sister c
 hurch's turn to host this year's Easter Sunday service\, so Holy Communion
  on April 5th will be held at Boraston Church (WR15 8LH).
GEO:-2.582492;52.342023
LOCATION:St John the Baptist\, Nash
URL:https://www.achurchnearyou.com/church/10667/service-and-events/events/
 485078/
END:VEVENT
BEGIN:VEVENT
SUMMARY:Holy Communion / Morning Prayer
DTSTART;TZID=Europe/London:20260802T110000
DTEND;TZID=Europe/London:20260802T120000
DTSTAMP:20260425T233338Z
UID:4850781785664800.0achurchnearyou
CATEGORIES:
DESCRIPTION:Services are usually held on the 1st Sunday in every month\, a
 lternating between Holy Communion and Morning PrayerAll are modern languag
 e services - usually Common Worship or Celtic.  We have a service at our s
 ister church in Boraston (WR15 8LH) on the 4th Sunday.\nIt is our sister c
 hurch's turn to host this year's Easter Sunday service\, so Holy Communion
  on April 5th will be held at Boraston Church (WR15 8LH).
GEO:-2.582492;52.342023
LOCATION:St John the Baptist\, Nash
URL:https://www.achurchnearyou.com/church/10667/service-and-events/events/
 485078/
END:VEVENT
BEGIN:VEVENT
SUMMARY:Holy Communion / Morning Prayer
DTSTART;TZID=Europe/London:20260906T110000
DTEND;TZID=Europe/London:20260906T120000
DTSTAMP:20260425T233338Z
UID:4850781788688800.0achurchnearyou
CATEGORIES:
DESCRIPTION:Services are usually held on the 1st Sunday in every month\, a
 lternating between Holy Communion and Morning PrayerAll are modern languag
 e services - usually Common Worship or Celtic.  We have a service at our s
 ister church in Boraston (WR15 8LH) on the 4th Sunday.\nIt is our sister c
 hurch's turn to host this year's Easter Sunday service\, so Holy Communion
  on April 5th will be held at Boraston Church (WR15 8LH).
GEO:-2.582492;52.342023
LOCATION:St John the Baptist\, Nash
URL:https://www.achurchnearyou.com/church/10667/service-and-events/events/
 485078/
END:VEVENT
END:VCALENDAR
