BEGIN:VCALENDAR
VERSION:2.0
PRODID:-//achurchnearyou.com//eventfeed//EN
CALSCALE:GREGORIAN
METHOD:PUBLISH
X-WR-TIMEZONE:UTC
BEGIN:VEVENT
SUMMARY:St Weonards Benefice Prayer Meeting
DTSTART;TZID=Europe/London:20241114T190000
DTEND;TZID=Europe/London:20241114T200000
DTSTAMP:20260419T171530Z
UID:11036532024-11-14 19:00:00+00:00achurchnearyou
CATEGORIES:
DESCRIPTION:We meet each month to pray for each other\, our local communit
 ies\, and the wider world.\nEveryone is welcome! \n\n'Rejoice always\, pra
 y continually\, give thanks in all circumstances\; for this is God's will 
 for you in Christ Jesus.' [1 Thessalonians 5:16-18]\n\n[Image by Tara Wins
 tead\, Pexels]
LOCATION:Please get in touch for details of when and where
URL:https://www.achurchnearyou.com/church/10679/service-and-events/events/
 1103653/
END:VEVENT
BEGIN:VEVENT
SUMMARY:St Weonards Benefice Prayer Meeting
DTSTART;TZID=Europe/London:20241212T190000
DTEND;TZID=Europe/London:20241212T200000
DTSTAMP:20260419T171530Z
UID:11036532024-12-12 19:00:00+00:00achurchnearyou
CATEGORIES:
DESCRIPTION:We meet each month to pray for each other\, our local communit
 ies\, and the wider world.\nEveryone is welcome! \n\n'Rejoice always\, pra
 y continually\, give thanks in all circumstances\; for this is God's will 
 for you in Christ Jesus.' [1 Thessalonians 5:16-18]\n\n[Image by Tara Wins
 tead\, Pexels]
LOCATION:Please get in touch for details of when and where
URL:https://www.achurchnearyou.com/church/10679/service-and-events/events/
 1103653/
END:VEVENT
BEGIN:VEVENT
SUMMARY:St Weonards Benefice Prayer Meeting
DTSTART;TZID=Europe/London:20250109T190000
DTEND;TZID=Europe/London:20250109T200000
DTSTAMP:20260419T171530Z
UID:11036532025-01-09 19:00:00+00:00achurchnearyou
CATEGORIES:
DESCRIPTION:We meet each month to pray for each other\, our local communit
 ies\, and the wider world.\nEveryone is welcome! \n\n'Rejoice always\, pra
 y continually\, give thanks in all circumstances\; for this is God's will 
 for you in Christ Jesus.' [1 Thessalonians 5:16-18]\n\n[Image by Tara Wins
 tead\, Pexels]
LOCATION:Please get in touch for details of when and where
URL:https://www.achurchnearyou.com/church/10679/service-and-events/events/
 1103653/
END:VEVENT
BEGIN:VEVENT
SUMMARY:St Weonards Benefice Prayer Meeting
DTSTART;TZID=Europe/London:20250213T190000
DTEND;TZID=Europe/London:20250213T200000
DTSTAMP:20260419T171530Z
UID:11036532025-02-13 19:00:00+00:00achurchnearyou
CATEGORIES:
DESCRIPTION:We meet each month to pray for each other\, our local communit
 ies\, and the wider world.\nEveryone is welcome! \n\n'Rejoice always\, pra
 y continually\, give thanks in all circumstances\; for this is God's will 
 for you in Christ Jesus.' [1 Thessalonians 5:16-18]\n\n[Image by Tara Wins
 tead\, Pexels]
LOCATION:Please get in touch for details of when and where
URL:https://www.achurchnearyou.com/church/10679/service-and-events/events/
 1103653/
END:VEVENT
BEGIN:VEVENT
SUMMARY:St Weonards Benefice Prayer Meeting
DTSTART;TZID=Europe/London:20250313T190000
DTEND;TZID=Europe/London:20250313T200000
DTSTAMP:20260419T171530Z
UID:11036532025-03-13 19:00:00+00:00achurchnearyou
CATEGORIES:
DESCRIPTION:We meet each month to pray for each other\, our local communit
 ies\, and the wider world.\nEveryone is welcome! \n\n'Rejoice always\, pra
 y continually\, give thanks in all circumstances\; for this is God's will 
 for you in Christ Jesus.' [1 Thessalonians 5:16-18]\n\n[Image by Tara Wins
 tead\, Pexels]
LOCATION:Please get in touch for details of when and where
URL:https://www.achurchnearyou.com/church/10679/service-and-events/events/
 1103653/
END:VEVENT
BEGIN:VEVENT
SUMMARY:St Weonards Benefice Prayer Meeting
DTSTART;TZID=Europe/London:20250410T190000
DTEND;TZID=Europe/London:20250410T200000
DTSTAMP:20260419T171530Z
UID:11036532025-04-10 19:00:00+01:00achurchnearyou
CATEGORIES:
DESCRIPTION:We meet each month to pray for each other\, our local communit
 ies\, and the wider world.\nEveryone is welcome! \n\n'Rejoice always\, pra
 y continually\, give thanks in all circumstances\; for this is God's will 
 for you in Christ Jesus.' [1 Thessalonians 5:16-18]\n\n[Image by Tara Wins
 tead\, Pexels]
LOCATION:Please get in touch for details of when and where
URL:https://www.achurchnearyou.com/church/10679/service-and-events/events/
 1103653/
END:VEVENT
BEGIN:VEVENT
SUMMARY:St Weonards Benefice Prayer Meeting
DTSTART;TZID=Europe/London:20250508T190000
DTEND;TZID=Europe/London:20250508T200000
DTSTAMP:20260419T171530Z
UID:11036532025-05-08 19:00:00+01:00achurchnearyou
CATEGORIES:
DESCRIPTION:We meet each month to pray for each other\, our local communit
 ies\, and the wider world.\nEveryone is welcome! \n\n'Rejoice always\, pra
 y continually\, give thanks in all circumstances\; for this is God's will 
 for you in Christ Jesus.' [1 Thessalonians 5:16-18]\n\n[Image by Tara Wins
 tead\, Pexels]
LOCATION:Please get in touch for details of when and where
URL:https://www.achurchnearyou.com/church/10679/service-and-events/events/
 1103653/
END:VEVENT
END:VCALENDAR
