BEGIN:VCALENDAR
VERSION:2.0
PRODID:-//achurchnearyou.com//eventfeed//EN
CALSCALE:GREGORIAN
METHOD:PUBLISH
X-WR-TIMEZONE:UTC
BEGIN:VEVENT
SUMMARY:Holy Communion for Christmas Morning
DTSTART:20251225T090000Z
DTEND:20251225T103000Z
DTSTAMP:20260421T190803Z
UID:12628612025-12-25 09:00:00+00:00achurchnearyou
CATEGORIES:
DESCRIPTION:Everyone is welcome to join the congregation of Knill for Holy
  Communion on Christmas morning using the contemporary language of the Com
 mon Worship service book.
LOCATION:St Michael and All Angels Knill
URL:https://www.achurchnearyou.com/church/10690/service-and-events/events/
 1262861/
END:VEVENT
END:VCALENDAR
