BEGIN:VCALENDAR
VERSION:2.0
PRODID:-//achurchnearyou.com//eventfeed//EN
CALSCALE:GREGORIAN
METHOD:PUBLISH
X-WR-TIMEZONE:UTC
BEGIN:VEVENT
SUMMARY:Holy Communion for Christmas Eve
DTSTART:20251224T213000Z
DTEND:20251224T223000Z
DTSTAMP:20260421T190644Z
UID:12628732025-12-24 21:30:00+00:00achurchnearyou
CATEGORIES:
DESCRIPTION:Celebrate Holy Communion with us on Christmas Eve in the lovel
 y village church of St Michael's\, Lingen\, using the traditional language
  of the Book of Common Prayer
LOCATION:St Michael's Lingen
URL:https://www.achurchnearyou.com/church/10690/service-and-events/events/
 1262873/
END:VEVENT
END:VCALENDAR
