BEGIN:VCALENDAR
VERSION:2.0
PRODID:-//achurchnearyou.com//eventfeed//EN
CALSCALE:GREGORIAN
METHOD:PUBLISH
X-WR-TIMEZONE:UTC
BEGIN:VEVENT
SUMMARY:Easter Day Presteigne
DTSTART:20260405T100000Z
DTEND:20260405T110000Z
DTSTAMP:20260421T121521Z
UID:13095772026-04-05 10:00:00+00:00achurchnearyou
CATEGORIES:
DESCRIPTION:A choral service of Holy Communion using the Common Worship li
 turgy (contemporary language)\, with anthems and hymns led by St Andrew's 
 Choir
GEO:-3.004203;52.274887
LOCATION:St Andrew's Presteigne
URL:https://www.achurchnearyou.com/church/10690/service-and-events/events/
 1309577/
END:VEVENT
END:VCALENDAR
