BEGIN:VCALENDAR
VERSION:2.0
PRODID:-//achurchnearyou.com//eventfeed//EN
CALSCALE:GREGORIAN
METHOD:PUBLISH
X-WR-TIMEZONE:UTC
BEGIN:VEVENT
SUMMARY:Annual Vestry and Parochial Church Meeting St Andrew's and Discoed
DTSTART:20260429T183000Z
DTEND:20260429T203000Z
DTSTAMP:20260421T083104Z
UID:13240922026-04-29 18:30:00+00:00achurchnearyou
CATEGORIES:
DESCRIPTION:The Annual Vestry and Parochial Church Meeting for St Andrew's
  Presteigne with St Michael's Discoed takes place on Wednesday 29 April at
  7.30 pm in St Andrew's Church Hall. Please do come and participate in the
  election of our church wardens\, parish councillors and deanery synod mem
 bers\, and hear reports of our church activities.
GEO:-3.004203;52.274887
LOCATION:St Andrew's Presteigne
URL:https://www.achurchnearyou.com/church/10690/service-and-events/events/
 1324092/
END:VEVENT
END:VCALENDAR
