BEGIN:VCALENDAR
VERSION:2.0
PRODID:-//achurchnearyou.com//eventfeed//EN
CALSCALE:GREGORIAN
METHOD:PUBLISH
X-WR-TIMEZONE:UTC
BEGIN:VEVENT
SUMMARY:Memorial Service
DTSTART:20251026T183000Z
DTEND:20251026T193000Z
DTSTAMP:20260424T044719Z
UID:10962712025-10-26 18:30:00+00:00achurchnearyou
CATEGORIES:
DESCRIPTION:An opportunity to light a candle to remember and give thanks f
 or our loved ones who have died. \n\nJesus promised that he would take us 
 into His Father’s presence when we die. Let this give you peace in the p
 resent and hope for the future.
LOCATION:Longden: St Ruthen
URL:https://www.achurchnearyou.com/church/10694/service-and-events/events/
 1096271/
END:VEVENT
END:VCALENDAR
