BEGIN:VCALENDAR
VERSION:2.0
PRODID:-//achurchnearyou.com//eventfeed//EN
CALSCALE:GREGORIAN
METHOD:PUBLISH
X-WR-TIMEZONE:UTC
BEGIN:VEVENT
SUMMARY:Good Friday Messy Church
DTSTART:20250418T100000Z
DTEND:20250418T113000Z
DTSTAMP:20260424T144534Z
UID:11613182025-04-18 10:00:00+00:00achurchnearyou
CATEGORIES:
DESCRIPTION:Calling all messy families to enjoy activities centred on the 
 last days of Jesus and his resurrection. A great way to celebrate this hol
 y day finishing with sandwiches and hot cross buns.
LOCATION:Longden Village Hall
URL:https://www.achurchnearyou.com/church/10694/service-and-events/events/
 1161318/
END:VEVENT
END:VCALENDAR
