BEGIN:VCALENDAR
VERSION:2.0
PRODID:-//achurchnearyou.com//eventfeed//EN
CALSCALE:GREGORIAN
METHOD:PUBLISH
X-WR-TIMEZONE:UTC
BEGIN:VEVENT
SUMMARY:Group Benefice service on 29th June
DTSTART:20250629T090000Z
DTEND:20250629T110000Z
DTSTAMP:20260425T164904Z
UID:12070532025-06-29 09:00:00+00:00achurchnearyou
CATEGORIES:
DESCRIPTION:The will be a Patronal Benefice service at St Thomas'\, Halfor
 d at 11am on Sunday 29th June.  To celebrate the feast day\, there will be
  Sausage and Bacon baps served with tea and coffee from 10.00 am to 10.40a
 m.
GEO:-2.831141;52.430711
LOCATION:Stokesay: St John the Baptist
URL:https://www.achurchnearyou.com/church/10729/service-and-events/events/
 1207053/
END:VEVENT
END:VCALENDAR
