BEGIN:VCALENDAR
VERSION:2.0
PRODID:-//achurchnearyou.com//eventfeed//EN
CALSCALE:GREGORIAN
METHOD:PUBLISH
X-WR-TIMEZONE:UTC
BEGIN:VEVENT
SUMMARY:Harvest Festival Service
DTSTART:20250928T084500Z
DTEND:20250928T094500Z
DTSTAMP:20260425T113005Z
UID:12228242025-09-28 08:45:00+00:00achurchnearyou
CATEGORIES:
DESCRIPTION:Join us a we celebrate the annual Harvest Festival service on 
 Sunday 28th September at 9.45 am.
GEO:-2.831141;52.430711
LOCATION:Stokesay: St John the Baptist
URL:https://www.achurchnearyou.com/church/10729/service-and-events/events/
 1222824/
END:VEVENT
END:VCALENDAR
