BEGIN:VCALENDAR
VERSION:2.0
PRODID:-//achurchnearyou.com//eventfeed//EN
CALSCALE:GREGORIAN
METHOD:PUBLISH
X-WR-TIMEZONE:UTC
BEGIN:VEVENT
SUMMARY:Services at the Pilgrim Centre on the 1st\, 3rd and 5th Sundays of
  the month.
DTSTART;TZID=Europe/London:20260503T080000
DTEND;TZID=Europe/London:20260503T084500
DTSTAMP:20260424T145715Z
UID:12707632026-05-03 08:00:00+01:00achurchnearyou
CATEGORIES:
DESCRIPTION:A service of Holy Communion is held at the Pilgrim Centre on t
 he 1st\, 3rd and usually 5th Sunday of the month\, commencing at 8 am. Ple
 ase note that the service on Easter Day will be at Stokesay\, commencing a
 t 9.45 am.
LOCATION:The Pilgrim Centre
URL:https://www.achurchnearyou.com/church/10729/service-and-events/events/
 1270763/
END:VEVENT
BEGIN:VEVENT
SUMMARY:Services at the Pilgrim Centre on the 1st\, 3rd and 5th Sundays of
  the month.
DTSTART;TZID=Europe/London:20260517T080000
DTEND;TZID=Europe/London:20260517T084500
DTSTAMP:20260424T145715Z
UID:12707632026-05-17 08:00:00+01:00achurchnearyou
CATEGORIES:
DESCRIPTION:A service of Holy Communion is held at the Pilgrim Centre on t
 he 1st\, 3rd and usually 5th Sunday of the month\, commencing at 8 am. Ple
 ase note that the service on Easter Day will be at Stokesay\, commencing a
 t 9.45 am.
LOCATION:The Pilgrim Centre
URL:https://www.achurchnearyou.com/church/10729/service-and-events/events/
 1270763/
END:VEVENT
BEGIN:VEVENT
SUMMARY:Services at the Pilgrim Centre on the 1st\, 3rd and 5th Sundays of
  the month.
DTSTART;TZID=Europe/London:20260531T080000
DTEND;TZID=Europe/London:20260531T084500
DTSTAMP:20260424T145715Z
UID:12707632026-05-31 08:00:00+01:00achurchnearyou
CATEGORIES:
DESCRIPTION:A service of Holy Communion is held at the Pilgrim Centre on t
 he 1st\, 3rd and usually 5th Sunday of the month\, commencing at 8 am. Ple
 ase note that the service on Easter Day will be at Stokesay\, commencing a
 t 9.45 am.
LOCATION:The Pilgrim Centre
URL:https://www.achurchnearyou.com/church/10729/service-and-events/events/
 1270763/
END:VEVENT
BEGIN:VEVENT
SUMMARY:Services at the Pilgrim Centre on the 1st\, 3rd and 5th Sundays of
  the month.
DTSTART;TZID=Europe/London:20260607T080000
DTEND;TZID=Europe/London:20260607T084500
DTSTAMP:20260424T145715Z
UID:12707632026-06-07 08:00:00+01:00achurchnearyou
CATEGORIES:
DESCRIPTION:A service of Holy Communion is held at the Pilgrim Centre on t
 he 1st\, 3rd and usually 5th Sunday of the month\, commencing at 8 am. Ple
 ase note that the service on Easter Day will be at Stokesay\, commencing a
 t 9.45 am.
LOCATION:The Pilgrim Centre
URL:https://www.achurchnearyou.com/church/10729/service-and-events/events/
 1270763/
END:VEVENT
BEGIN:VEVENT
SUMMARY:Services at the Pilgrim Centre on the 1st\, 3rd and 5th Sundays of
  the month.
DTSTART;TZID=Europe/London:20260621T080000
DTEND;TZID=Europe/London:20260621T084500
DTSTAMP:20260424T145715Z
UID:12707632026-06-21 08:00:00+01:00achurchnearyou
CATEGORIES:
DESCRIPTION:A service of Holy Communion is held at the Pilgrim Centre on t
 he 1st\, 3rd and usually 5th Sunday of the month\, commencing at 8 am. Ple
 ase note that the service on Easter Day will be at Stokesay\, commencing a
 t 9.45 am.
LOCATION:The Pilgrim Centre
URL:https://www.achurchnearyou.com/church/10729/service-and-events/events/
 1270763/
END:VEVENT
BEGIN:VEVENT
SUMMARY:Services at the Pilgrim Centre on the 1st\, 3rd and 5th Sundays of
  the month.
DTSTART;TZID=Europe/London:20260705T080000
DTEND;TZID=Europe/London:20260705T084500
DTSTAMP:20260424T145715Z
UID:12707632026-07-05 08:00:00+01:00achurchnearyou
CATEGORIES:
DESCRIPTION:A service of Holy Communion is held at the Pilgrim Centre on t
 he 1st\, 3rd and usually 5th Sunday of the month\, commencing at 8 am. Ple
 ase note that the service on Easter Day will be at Stokesay\, commencing a
 t 9.45 am.
LOCATION:The Pilgrim Centre
URL:https://www.achurchnearyou.com/church/10729/service-and-events/events/
 1270763/
END:VEVENT
BEGIN:VEVENT
SUMMARY:Services at the Pilgrim Centre on the 1st\, 3rd and 5th Sundays of
  the month.
DTSTART;TZID=Europe/London:20260719T080000
DTEND;TZID=Europe/London:20260719T084500
DTSTAMP:20260424T145715Z
UID:12707632026-07-19 08:00:00+01:00achurchnearyou
CATEGORIES:
DESCRIPTION:A service of Holy Communion is held at the Pilgrim Centre on t
 he 1st\, 3rd and usually 5th Sunday of the month\, commencing at 8 am. Ple
 ase note that the service on Easter Day will be at Stokesay\, commencing a
 t 9.45 am.
LOCATION:The Pilgrim Centre
URL:https://www.achurchnearyou.com/church/10729/service-and-events/events/
 1270763/
END:VEVENT
BEGIN:VEVENT
SUMMARY:Services at the Pilgrim Centre on the 1st\, 3rd and 5th Sundays of
  the month.
DTSTART;TZID=Europe/London:20260802T080000
DTEND;TZID=Europe/London:20260802T084500
DTSTAMP:20260424T145715Z
UID:12707632026-08-02 08:00:00+01:00achurchnearyou
CATEGORIES:
DESCRIPTION:A service of Holy Communion is held at the Pilgrim Centre on t
 he 1st\, 3rd and usually 5th Sunday of the month\, commencing at 8 am. Ple
 ase note that the service on Easter Day will be at Stokesay\, commencing a
 t 9.45 am.
LOCATION:The Pilgrim Centre
URL:https://www.achurchnearyou.com/church/10729/service-and-events/events/
 1270763/
END:VEVENT
BEGIN:VEVENT
SUMMARY:Services at the Pilgrim Centre on the 1st\, 3rd and 5th Sundays of
  the month.
DTSTART;TZID=Europe/London:20260816T080000
DTEND;TZID=Europe/London:20260816T084500
DTSTAMP:20260424T145715Z
UID:12707632026-08-16 08:00:00+01:00achurchnearyou
CATEGORIES:
DESCRIPTION:A service of Holy Communion is held at the Pilgrim Centre on t
 he 1st\, 3rd and usually 5th Sunday of the month\, commencing at 8 am. Ple
 ase note that the service on Easter Day will be at Stokesay\, commencing a
 t 9.45 am.
LOCATION:The Pilgrim Centre
URL:https://www.achurchnearyou.com/church/10729/service-and-events/events/
 1270763/
END:VEVENT
BEGIN:VEVENT
SUMMARY:Services at the Pilgrim Centre on the 1st\, 3rd and 5th Sundays of
  the month.
DTSTART;TZID=Europe/London:20260830T080000
DTEND;TZID=Europe/London:20260830T084500
DTSTAMP:20260424T145715Z
UID:12707632026-08-30 08:00:00+01:00achurchnearyou
CATEGORIES:
DESCRIPTION:A service of Holy Communion is held at the Pilgrim Centre on t
 he 1st\, 3rd and usually 5th Sunday of the month\, commencing at 8 am. Ple
 ase note that the service on Easter Day will be at Stokesay\, commencing a
 t 9.45 am.
LOCATION:The Pilgrim Centre
URL:https://www.achurchnearyou.com/church/10729/service-and-events/events/
 1270763/
END:VEVENT
BEGIN:VEVENT
SUMMARY:Services at the Pilgrim Centre on the 1st\, 3rd and 5th Sundays of
  the month.
DTSTART;TZID=Europe/London:20260906T080000
DTEND;TZID=Europe/London:20260906T084500
DTSTAMP:20260424T145715Z
UID:12707632026-09-06 08:00:00+01:00achurchnearyou
CATEGORIES:
DESCRIPTION:A service of Holy Communion is held at the Pilgrim Centre on t
 he 1st\, 3rd and usually 5th Sunday of the month\, commencing at 8 am. Ple
 ase note that the service on Easter Day will be at Stokesay\, commencing a
 t 9.45 am.
LOCATION:The Pilgrim Centre
URL:https://www.achurchnearyou.com/church/10729/service-and-events/events/
 1270763/
END:VEVENT
BEGIN:VEVENT
SUMMARY:Services at the Pilgrim Centre on the 1st\, 3rd and 5th Sundays of
  the month.
DTSTART;TZID=Europe/London:20260920T080000
DTEND;TZID=Europe/London:20260920T084500
DTSTAMP:20260424T145715Z
UID:12707632026-09-20 08:00:00+01:00achurchnearyou
CATEGORIES:
DESCRIPTION:A service of Holy Communion is held at the Pilgrim Centre on t
 he 1st\, 3rd and usually 5th Sunday of the month\, commencing at 8 am. Ple
 ase note that the service on Easter Day will be at Stokesay\, commencing a
 t 9.45 am.
LOCATION:The Pilgrim Centre
URL:https://www.achurchnearyou.com/church/10729/service-and-events/events/
 1270763/
END:VEVENT
BEGIN:VEVENT
SUMMARY:Services at the Pilgrim Centre on the 1st\, 3rd and 5th Sundays of
  the month.
DTSTART;TZID=Europe/London:20261004T080000
DTEND;TZID=Europe/London:20261004T084500
DTSTAMP:20260424T145715Z
UID:12707632026-10-04 08:00:00+01:00achurchnearyou
CATEGORIES:
DESCRIPTION:A service of Holy Communion is held at the Pilgrim Centre on t
 he 1st\, 3rd and usually 5th Sunday of the month\, commencing at 8 am. Ple
 ase note that the service on Easter Day will be at Stokesay\, commencing a
 t 9.45 am.
LOCATION:The Pilgrim Centre
URL:https://www.achurchnearyou.com/church/10729/service-and-events/events/
 1270763/
END:VEVENT
BEGIN:VEVENT
SUMMARY:Services at the Pilgrim Centre on the 1st\, 3rd and 5th Sundays of
  the month.
DTSTART;TZID=Europe/London:20261018T080000
DTEND;TZID=Europe/London:20261018T084500
DTSTAMP:20260424T145715Z
UID:12707632026-10-18 08:00:00+01:00achurchnearyou
CATEGORIES:
DESCRIPTION:A service of Holy Communion is held at the Pilgrim Centre on t
 he 1st\, 3rd and usually 5th Sunday of the month\, commencing at 8 am. Ple
 ase note that the service on Easter Day will be at Stokesay\, commencing a
 t 9.45 am.
LOCATION:The Pilgrim Centre
URL:https://www.achurchnearyou.com/church/10729/service-and-events/events/
 1270763/
END:VEVENT
BEGIN:VEVENT
SUMMARY:Services at the Pilgrim Centre on the 1st\, 3rd and 5th Sundays of
  the month.
DTSTART;TZID=Europe/London:20261101T080000
DTEND;TZID=Europe/London:20261101T084500
DTSTAMP:20260424T145715Z
UID:12707632026-11-01 08:00:00+00:00achurchnearyou
CATEGORIES:
DESCRIPTION:A service of Holy Communion is held at the Pilgrim Centre on t
 he 1st\, 3rd and usually 5th Sunday of the month\, commencing at 8 am. Ple
 ase note that the service on Easter Day will be at Stokesay\, commencing a
 t 9.45 am.
LOCATION:The Pilgrim Centre
URL:https://www.achurchnearyou.com/church/10729/service-and-events/events/
 1270763/
END:VEVENT
BEGIN:VEVENT
SUMMARY:Services at the Pilgrim Centre on the 1st\, 3rd and 5th Sundays of
  the month.
DTSTART;TZID=Europe/London:20261115T080000
DTEND;TZID=Europe/London:20261115T084500
DTSTAMP:20260424T145715Z
UID:12707632026-11-15 08:00:00+00:00achurchnearyou
CATEGORIES:
DESCRIPTION:A service of Holy Communion is held at the Pilgrim Centre on t
 he 1st\, 3rd and usually 5th Sunday of the month\, commencing at 8 am. Ple
 ase note that the service on Easter Day will be at Stokesay\, commencing a
 t 9.45 am.
LOCATION:The Pilgrim Centre
URL:https://www.achurchnearyou.com/church/10729/service-and-events/events/
 1270763/
END:VEVENT
BEGIN:VEVENT
SUMMARY:Services at the Pilgrim Centre on the 1st\, 3rd and 5th Sundays of
  the month.
DTSTART;TZID=Europe/London:20261129T080000
DTEND;TZID=Europe/London:20261129T084500
DTSTAMP:20260424T145715Z
UID:12707632026-11-29 08:00:00+00:00achurchnearyou
CATEGORIES:
DESCRIPTION:A service of Holy Communion is held at the Pilgrim Centre on t
 he 1st\, 3rd and usually 5th Sunday of the month\, commencing at 8 am. Ple
 ase note that the service on Easter Day will be at Stokesay\, commencing a
 t 9.45 am.
LOCATION:The Pilgrim Centre
URL:https://www.achurchnearyou.com/church/10729/service-and-events/events/
 1270763/
END:VEVENT
BEGIN:VEVENT
SUMMARY:Services at the Pilgrim Centre on the 1st\, 3rd and 5th Sundays of
  the month.
DTSTART;TZID=Europe/London:20261206T080000
DTEND;TZID=Europe/London:20261206T084500
DTSTAMP:20260424T145715Z
UID:12707632026-12-06 08:00:00+00:00achurchnearyou
CATEGORIES:
DESCRIPTION:A service of Holy Communion is held at the Pilgrim Centre on t
 he 1st\, 3rd and usually 5th Sunday of the month\, commencing at 8 am. Ple
 ase note that the service on Easter Day will be at Stokesay\, commencing a
 t 9.45 am.
LOCATION:The Pilgrim Centre
URL:https://www.achurchnearyou.com/church/10729/service-and-events/events/
 1270763/
END:VEVENT
BEGIN:VEVENT
SUMMARY:Services at the Pilgrim Centre on the 1st\, 3rd and 5th Sundays of
  the month.
DTSTART;TZID=Europe/London:20261220T080000
DTEND;TZID=Europe/London:20261220T084500
DTSTAMP:20260424T145715Z
UID:12707632026-12-20 08:00:00+00:00achurchnearyou
CATEGORIES:
DESCRIPTION:A service of Holy Communion is held at the Pilgrim Centre on t
 he 1st\, 3rd and usually 5th Sunday of the month\, commencing at 8 am. Ple
 ase note that the service on Easter Day will be at Stokesay\, commencing a
 t 9.45 am.
LOCATION:The Pilgrim Centre
URL:https://www.achurchnearyou.com/church/10729/service-and-events/events/
 1270763/
END:VEVENT
BEGIN:VEVENT
SUMMARY:Services at the Pilgrim Centre on the 1st\, 3rd and 5th Sundays of
  the month.
DTSTART;TZID=Europe/London:20270103T080000
DTEND;TZID=Europe/London:20270103T084500
DTSTAMP:20260424T145715Z
UID:12707632027-01-03 08:00:00+00:00achurchnearyou
CATEGORIES:
DESCRIPTION:A service of Holy Communion is held at the Pilgrim Centre on t
 he 1st\, 3rd and usually 5th Sunday of the month\, commencing at 8 am. Ple
 ase note that the service on Easter Day will be at Stokesay\, commencing a
 t 9.45 am.
LOCATION:The Pilgrim Centre
URL:https://www.achurchnearyou.com/church/10729/service-and-events/events/
 1270763/
END:VEVENT
BEGIN:VEVENT
SUMMARY:Services at the Pilgrim Centre on the 1st\, 3rd and 5th Sundays of
  the month.
DTSTART;TZID=Europe/London:20270117T080000
DTEND;TZID=Europe/London:20270117T084500
DTSTAMP:20260424T145715Z
UID:12707632027-01-17 08:00:00+00:00achurchnearyou
CATEGORIES:
DESCRIPTION:A service of Holy Communion is held at the Pilgrim Centre on t
 he 1st\, 3rd and usually 5th Sunday of the month\, commencing at 8 am. Ple
 ase note that the service on Easter Day will be at Stokesay\, commencing a
 t 9.45 am.
LOCATION:The Pilgrim Centre
URL:https://www.achurchnearyou.com/church/10729/service-and-events/events/
 1270763/
END:VEVENT
BEGIN:VEVENT
SUMMARY:Services at the Pilgrim Centre on the 1st\, 3rd and 5th Sundays of
  the month.
DTSTART;TZID=Europe/London:20270131T080000
DTEND;TZID=Europe/London:20270131T084500
DTSTAMP:20260424T145715Z
UID:12707632027-01-31 08:00:00+00:00achurchnearyou
CATEGORIES:
DESCRIPTION:A service of Holy Communion is held at the Pilgrim Centre on t
 he 1st\, 3rd and usually 5th Sunday of the month\, commencing at 8 am. Ple
 ase note that the service on Easter Day will be at Stokesay\, commencing a
 t 9.45 am.
LOCATION:The Pilgrim Centre
URL:https://www.achurchnearyou.com/church/10729/service-and-events/events/
 1270763/
END:VEVENT
BEGIN:VEVENT
SUMMARY:Services at the Pilgrim Centre on the 1st\, 3rd and 5th Sundays of
  the month.
DTSTART;TZID=Europe/London:20270207T080000
DTEND;TZID=Europe/London:20270207T084500
DTSTAMP:20260424T145715Z
UID:12707632027-02-07 08:00:00+00:00achurchnearyou
CATEGORIES:
DESCRIPTION:A service of Holy Communion is held at the Pilgrim Centre on t
 he 1st\, 3rd and usually 5th Sunday of the month\, commencing at 8 am. Ple
 ase note that the service on Easter Day will be at Stokesay\, commencing a
 t 9.45 am.
LOCATION:The Pilgrim Centre
URL:https://www.achurchnearyou.com/church/10729/service-and-events/events/
 1270763/
END:VEVENT
BEGIN:VEVENT
SUMMARY:Services at the Pilgrim Centre on the 1st\, 3rd and 5th Sundays of
  the month.
DTSTART;TZID=Europe/London:20270221T080000
DTEND;TZID=Europe/London:20270221T084500
DTSTAMP:20260424T145715Z
UID:12707632027-02-21 08:00:00+00:00achurchnearyou
CATEGORIES:
DESCRIPTION:A service of Holy Communion is held at the Pilgrim Centre on t
 he 1st\, 3rd and usually 5th Sunday of the month\, commencing at 8 am. Ple
 ase note that the service on Easter Day will be at Stokesay\, commencing a
 t 9.45 am.
LOCATION:The Pilgrim Centre
URL:https://www.achurchnearyou.com/church/10729/service-and-events/events/
 1270763/
END:VEVENT
BEGIN:VEVENT
SUMMARY:Services at the Pilgrim Centre on the 1st\, 3rd and 5th Sundays of
  the month.
DTSTART;TZID=Europe/London:20270307T080000
DTEND;TZID=Europe/London:20270307T084500
DTSTAMP:20260424T145715Z
UID:12707632027-03-07 08:00:00+00:00achurchnearyou
CATEGORIES:
DESCRIPTION:A service of Holy Communion is held at the Pilgrim Centre on t
 he 1st\, 3rd and usually 5th Sunday of the month\, commencing at 8 am. Ple
 ase note that the service on Easter Day will be at Stokesay\, commencing a
 t 9.45 am.
LOCATION:The Pilgrim Centre
URL:https://www.achurchnearyou.com/church/10729/service-and-events/events/
 1270763/
END:VEVENT
BEGIN:VEVENT
SUMMARY:Services at the Pilgrim Centre on the 1st\, 3rd and 5th Sundays of
  the month.
DTSTART;TZID=Europe/London:20270321T080000
DTEND;TZID=Europe/London:20270321T084500
DTSTAMP:20260424T145715Z
UID:12707632027-03-21 08:00:00+00:00achurchnearyou
CATEGORIES:
DESCRIPTION:A service of Holy Communion is held at the Pilgrim Centre on t
 he 1st\, 3rd and usually 5th Sunday of the month\, commencing at 8 am. Ple
 ase note that the service on Easter Day will be at Stokesay\, commencing a
 t 9.45 am.
LOCATION:The Pilgrim Centre
URL:https://www.achurchnearyou.com/church/10729/service-and-events/events/
 1270763/
END:VEVENT
BEGIN:VEVENT
SUMMARY:Services at the Pilgrim Centre on the 1st\, 3rd and 5th Sundays of
  the month.
DTSTART;TZID=Europe/London:20270404T080000
DTEND;TZID=Europe/London:20270404T084500
DTSTAMP:20260424T145715Z
UID:12707632027-04-04 08:00:00+01:00achurchnearyou
CATEGORIES:
DESCRIPTION:A service of Holy Communion is held at the Pilgrim Centre on t
 he 1st\, 3rd and usually 5th Sunday of the month\, commencing at 8 am. Ple
 ase note that the service on Easter Day will be at Stokesay\, commencing a
 t 9.45 am.
LOCATION:The Pilgrim Centre
URL:https://www.achurchnearyou.com/church/10729/service-and-events/events/
 1270763/
END:VEVENT
BEGIN:VEVENT
SUMMARY:Services at the Pilgrim Centre on the 1st\, 3rd and 5th Sundays of
  the month.
DTSTART;TZID=Europe/London:20270418T080000
DTEND;TZID=Europe/London:20270418T084500
DTSTAMP:20260424T145715Z
UID:12707632027-04-18 08:00:00+01:00achurchnearyou
CATEGORIES:
DESCRIPTION:A service of Holy Communion is held at the Pilgrim Centre on t
 he 1st\, 3rd and usually 5th Sunday of the month\, commencing at 8 am. Ple
 ase note that the service on Easter Day will be at Stokesay\, commencing a
 t 9.45 am.
LOCATION:The Pilgrim Centre
URL:https://www.achurchnearyou.com/church/10729/service-and-events/events/
 1270763/
END:VEVENT
END:VCALENDAR
