BEGIN:VCALENDAR
VERSION:2.0
PRODID:-//achurchnearyou.com//eventfeed//EN
CALSCALE:GREGORIAN
METHOD:PUBLISH
X-WR-TIMEZONE:UTC
BEGIN:VEVENT
SUMMARY:Holy Communion at St Nicholas
DTSTART;TZID=Europe/London:20260524T093000
DTEND;TZID=Europe/London:20260524T103000
DTSTAMP:20260422T131449Z
UID:11345362026-05-24 09:30:00+01:00achurchnearyou
CATEGORIES:
DESCRIPTION:A service of Holy Communion\, with hymns\, sermon and prayers.
  All welcome.
GEO:-2.681785;52.104553
LOCATION:Sutton St Nicholas: St Nicholas
URL:https://www.achurchnearyou.com/church/10737/service-and-events/events/
 1134536/
END:VEVENT
BEGIN:VEVENT
SUMMARY:Holy Communion at St Nicholas
DTSTART;TZID=Europe/London:20260628T093000
DTEND;TZID=Europe/London:20260628T103000
DTSTAMP:20260422T131449Z
UID:11345362026-06-28 09:30:00+01:00achurchnearyou
CATEGORIES:
DESCRIPTION:A service of Holy Communion\, with hymns\, sermon and prayers.
  All welcome.
GEO:-2.681785;52.104553
LOCATION:Sutton St Nicholas: St Nicholas
URL:https://www.achurchnearyou.com/church/10737/service-and-events/events/
 1134536/
END:VEVENT
BEGIN:VEVENT
SUMMARY:Holy Communion at St Nicholas
DTSTART;TZID=Europe/London:20260927T093000
DTEND;TZID=Europe/London:20260927T103000
DTSTAMP:20260422T131449Z
UID:11345362026-09-27 09:30:00+01:00achurchnearyou
CATEGORIES:
DESCRIPTION:A service of Holy Communion\, with hymns\, sermon and prayers.
  All welcome.
GEO:-2.681785;52.104553
LOCATION:Sutton St Nicholas: St Nicholas
URL:https://www.achurchnearyou.com/church/10737/service-and-events/events/
 1134536/
END:VEVENT
BEGIN:VEVENT
SUMMARY:Holy Communion at St Nicholas
DTSTART;TZID=Europe/London:20261025T093000
DTEND;TZID=Europe/London:20261025T103000
DTSTAMP:20260422T131449Z
UID:11345362026-10-25 09:30:00+00:00achurchnearyou
CATEGORIES:
DESCRIPTION:A service of Holy Communion\, with hymns\, sermon and prayers.
  All welcome.
GEO:-2.681785;52.104553
LOCATION:Sutton St Nicholas: St Nicholas
URL:https://www.achurchnearyou.com/church/10737/service-and-events/events/
 1134536/
END:VEVENT
BEGIN:VEVENT
SUMMARY:Holy Communion at St Nicholas
DTSTART;TZID=Europe/London:20270124T093000
DTEND;TZID=Europe/London:20270124T103000
DTSTAMP:20260422T131449Z
UID:11345362027-01-24 09:30:00+00:00achurchnearyou
CATEGORIES:
DESCRIPTION:A service of Holy Communion\, with hymns\, sermon and prayers.
  All welcome.
GEO:-2.681785;52.104553
LOCATION:Sutton St Nicholas: St Nicholas
URL:https://www.achurchnearyou.com/church/10737/service-and-events/events/
 1134536/
END:VEVENT
BEGIN:VEVENT
SUMMARY:Holy Communion at St Nicholas
DTSTART;TZID=Europe/London:20270228T093000
DTEND;TZID=Europe/London:20270228T103000
DTSTAMP:20260422T131449Z
UID:11345362027-02-28 09:30:00+00:00achurchnearyou
CATEGORIES:
DESCRIPTION:A service of Holy Communion\, with hymns\, sermon and prayers.
  All welcome.
GEO:-2.681785;52.104553
LOCATION:Sutton St Nicholas: St Nicholas
URL:https://www.achurchnearyou.com/church/10737/service-and-events/events/
 1134536/
END:VEVENT
BEGIN:VEVENT
SUMMARY:Holy Communion at St Nicholas
DTSTART;TZID=Europe/London:20270328T093000
DTEND;TZID=Europe/London:20270328T103000
DTSTAMP:20260422T131449Z
UID:11345362027-03-28 09:30:00+01:00achurchnearyou
CATEGORIES:
DESCRIPTION:A service of Holy Communion\, with hymns\, sermon and prayers.
  All welcome.
GEO:-2.681785;52.104553
LOCATION:Sutton St Nicholas: St Nicholas
URL:https://www.achurchnearyou.com/church/10737/service-and-events/events/
 1134536/
END:VEVENT
END:VCALENDAR
