BEGIN:VCALENDAR
VERSION:2.0
PRODID:-//achurchnearyou.com//eventfeed//EN
CALSCALE:GREGORIAN
METHOD:PUBLISH
X-WR-TIMEZONE:UTC
BEGIN:VEVENT
SUMMARY:Holy Communion at St Michaels Sutton
DTSTART;TZID=Europe/London:20251026T111500
DTEND;TZID=Europe/London:20251026T121500
DTSTAMP:20260422T164454Z
UID:12189252025-10-26 11:15:00+00:00achurchnearyou
CATEGORIES:
DESCRIPTION:A service of Holy Communion\, with hymns\, sermon and prayers.
  All welcome.
LOCATION:Sutton St Michael: St Michael
URL:https://www.achurchnearyou.com/church/10737/service-and-events/events/
 1218925/
END:VEVENT
BEGIN:VEVENT
SUMMARY:Holy Communion at St Michaels Sutton
DTSTART;TZID=Europe/London:20260125T111500
DTEND;TZID=Europe/London:20260125T121500
DTSTAMP:20260422T164454Z
UID:12189252026-01-25 11:15:00+00:00achurchnearyou
CATEGORIES:
DESCRIPTION:A service of Holy Communion\, with hymns\, sermon and prayers.
  All welcome.
LOCATION:Sutton St Michael: St Michael
URL:https://www.achurchnearyou.com/church/10737/service-and-events/events/
 1218925/
END:VEVENT
BEGIN:VEVENT
SUMMARY:Holy Communion at St Michaels Sutton
DTSTART;TZID=Europe/London:20260222T111500
DTEND;TZID=Europe/London:20260222T121500
DTSTAMP:20260422T164454Z
UID:12189252026-02-22 11:15:00+00:00achurchnearyou
CATEGORIES:
DESCRIPTION:A service of Holy Communion\, with hymns\, sermon and prayers.
  All welcome.
LOCATION:Sutton St Michael: St Michael
URL:https://www.achurchnearyou.com/church/10737/service-and-events/events/
 1218925/
END:VEVENT
BEGIN:VEVENT
SUMMARY:Holy Communion at St Michaels Sutton
DTSTART;TZID=Europe/London:20260322T111500
DTEND;TZID=Europe/London:20260322T121500
DTSTAMP:20260422T164454Z
UID:12189252026-03-22 11:15:00+00:00achurchnearyou
CATEGORIES:
DESCRIPTION:A service of Holy Communion\, with hymns\, sermon and prayers.
  All welcome.
LOCATION:Sutton St Michael: St Michael
URL:https://www.achurchnearyou.com/church/10737/service-and-events/events/
 1218925/
END:VEVENT
BEGIN:VEVENT
SUMMARY:Holy Communion at St Michaels Sutton
DTSTART;TZID=Europe/London:20260426T111500
DTEND;TZID=Europe/London:20260426T121500
DTSTAMP:20260422T164454Z
UID:12189252026-04-26 11:15:00+01:00achurchnearyou
CATEGORIES:
DESCRIPTION:A service of Holy Communion\, with hymns\, sermon and prayers.
  All welcome.
LOCATION:Sutton St Michael: St Michael
URL:https://www.achurchnearyou.com/church/10737/service-and-events/events/
 1218925/
END:VEVENT
BEGIN:VEVENT
SUMMARY:Holy Communion at St Michaels Sutton
DTSTART;TZID=Europe/London:20260524T111500
DTEND;TZID=Europe/London:20260524T121500
DTSTAMP:20260422T164454Z
UID:12189252026-05-24 11:15:00+01:00achurchnearyou
CATEGORIES:
DESCRIPTION:A service of Holy Communion\, with hymns\, sermon and prayers.
  All welcome.
LOCATION:Sutton St Michael: St Michael
URL:https://www.achurchnearyou.com/church/10737/service-and-events/events/
 1218925/
END:VEVENT
BEGIN:VEVENT
SUMMARY:Holy Communion at St Michaels Sutton
DTSTART;TZID=Europe/London:20260628T111500
DTEND;TZID=Europe/London:20260628T121500
DTSTAMP:20260422T164454Z
UID:12189252026-06-28 11:15:00+01:00achurchnearyou
CATEGORIES:
DESCRIPTION:A service of Holy Communion\, with hymns\, sermon and prayers.
  All welcome.
LOCATION:Sutton St Michael: St Michael
URL:https://www.achurchnearyou.com/church/10737/service-and-events/events/
 1218925/
END:VEVENT
BEGIN:VEVENT
SUMMARY:Holy Communion at St Michaels Sutton
DTSTART;TZID=Europe/London:20260726T111500
DTEND;TZID=Europe/London:20260726T121500
DTSTAMP:20260422T164454Z
UID:12189252026-07-26 11:15:00+01:00achurchnearyou
CATEGORIES:
DESCRIPTION:A service of Holy Communion\, with hymns\, sermon and prayers.
  All welcome.
LOCATION:Sutton St Michael: St Michael
URL:https://www.achurchnearyou.com/church/10737/service-and-events/events/
 1218925/
END:VEVENT
BEGIN:VEVENT
SUMMARY:Holy Communion at St Michaels Sutton
DTSTART;TZID=Europe/London:20260823T111500
DTEND;TZID=Europe/London:20260823T121500
DTSTAMP:20260422T164454Z
UID:12189252026-08-23 11:15:00+01:00achurchnearyou
CATEGORIES:
DESCRIPTION:A service of Holy Communion\, with hymns\, sermon and prayers.
  All welcome.
LOCATION:Sutton St Michael: St Michael
URL:https://www.achurchnearyou.com/church/10737/service-and-events/events/
 1218925/
END:VEVENT
BEGIN:VEVENT
SUMMARY:Holy Communion at St Michaels Sutton
DTSTART;TZID=Europe/London:20260927T111500
DTEND;TZID=Europe/London:20260927T121500
DTSTAMP:20260422T164454Z
UID:12189252026-09-27 11:15:00+01:00achurchnearyou
CATEGORIES:
DESCRIPTION:A service of Holy Communion\, with hymns\, sermon and prayers.
  All welcome.
LOCATION:Sutton St Michael: St Michael
URL:https://www.achurchnearyou.com/church/10737/service-and-events/events/
 1218925/
END:VEVENT
BEGIN:VEVENT
SUMMARY:Holy Communion at St Michaels Sutton
DTSTART;TZID=Europe/London:20261025T111500
DTEND;TZID=Europe/London:20261025T121500
DTSTAMP:20260422T164454Z
UID:12189252026-10-25 11:15:00+00:00achurchnearyou
CATEGORIES:
DESCRIPTION:A service of Holy Communion\, with hymns\, sermon and prayers.
  All welcome.
LOCATION:Sutton St Michael: St Michael
URL:https://www.achurchnearyou.com/church/10737/service-and-events/events/
 1218925/
END:VEVENT
BEGIN:VEVENT
SUMMARY:Holy Communion at St Michaels Sutton
DTSTART;TZID=Europe/London:20261122T111500
DTEND;TZID=Europe/London:20261122T121500
DTSTAMP:20260422T164454Z
UID:12189252026-11-22 11:15:00+00:00achurchnearyou
CATEGORIES:
DESCRIPTION:A service of Holy Communion\, with hymns\, sermon and prayers.
  All welcome.
LOCATION:Sutton St Michael: St Michael
URL:https://www.achurchnearyou.com/church/10737/service-and-events/events/
 1218925/
END:VEVENT
BEGIN:VEVENT
SUMMARY:Holy Communion at St Michaels Sutton
DTSTART;TZID=Europe/London:20261227T111500
DTEND;TZID=Europe/London:20261227T121500
DTSTAMP:20260422T164454Z
UID:12189252026-12-27 11:15:00+00:00achurchnearyou
CATEGORIES:
DESCRIPTION:A service of Holy Communion\, with hymns\, sermon and prayers.
  All welcome.
LOCATION:Sutton St Michael: St Michael
URL:https://www.achurchnearyou.com/church/10737/service-and-events/events/
 1218925/
END:VEVENT
BEGIN:VEVENT
SUMMARY:Holy Communion at St Michaels Sutton
DTSTART;TZID=Europe/London:20270124T111500
DTEND;TZID=Europe/London:20270124T121500
DTSTAMP:20260422T164454Z
UID:12189252027-01-24 11:15:00+00:00achurchnearyou
CATEGORIES:
DESCRIPTION:A service of Holy Communion\, with hymns\, sermon and prayers.
  All welcome.
LOCATION:Sutton St Michael: St Michael
URL:https://www.achurchnearyou.com/church/10737/service-and-events/events/
 1218925/
END:VEVENT
BEGIN:VEVENT
SUMMARY:Holy Communion at St Michaels Sutton
DTSTART;TZID=Europe/London:20270228T111500
DTEND;TZID=Europe/London:20270228T121500
DTSTAMP:20260422T164454Z
UID:12189252027-02-28 11:15:00+00:00achurchnearyou
CATEGORIES:
DESCRIPTION:A service of Holy Communion\, with hymns\, sermon and prayers.
  All welcome.
LOCATION:Sutton St Michael: St Michael
URL:https://www.achurchnearyou.com/church/10737/service-and-events/events/
 1218925/
END:VEVENT
BEGIN:VEVENT
SUMMARY:Holy Communion at St Michaels Sutton
DTSTART;TZID=Europe/London:20270328T111500
DTEND;TZID=Europe/London:20270328T121500
DTSTAMP:20260422T164454Z
UID:12189252027-03-28 11:15:00+01:00achurchnearyou
CATEGORIES:
DESCRIPTION:A service of Holy Communion\, with hymns\, sermon and prayers.
  All welcome.
LOCATION:Sutton St Michael: St Michael
URL:https://www.achurchnearyou.com/church/10737/service-and-events/events/
 1218925/
END:VEVENT
END:VCALENDAR
