BEGIN:VCALENDAR
VERSION:2.0
PRODID:-//achurchnearyou.com//eventfeed//EN
CALSCALE:GREGORIAN
METHOD:PUBLISH
X-WR-TIMEZONE:UTC
BEGIN:VEVENT
SUMMARY:Be Still
DTSTART;TZID=Europe/London:20260401T173000
DTEND;TZID=Europe/London:20260401T180000
DTSTAMP:20260425T230319Z
UID:11296941775061000.0achurchnearyou
CATEGORIES:
DESCRIPTION:Half an hour of music\, silence\, prayer and reflection\, usua
 lly but not always around a theme. Lay led
GEO:-2.778508;52.27936
LOCATION:St. Leonard's Yarpole
URL:https://www.achurchnearyou.com/church/10792/service-and-events/events/
 1129694/
END:VEVENT
BEGIN:VEVENT
SUMMARY:Good Friday Meditation
DTSTART;TZID=Europe/London:20260403T110000
DTEND;TZID=Europe/London:20260403T120000
DTSTAMP:20260425T230319Z
UID:12901701775210400.0achurchnearyou
CATEGORIES:
DESCRIPTION:An hour of lay led quiet reflection for Good Friday
GEO:-2.778508;52.27936
LOCATION:St. Leonard's Yarpole
URL:https://www.achurchnearyou.com/church/10792/service-and-events/events/
 1290170/
END:VEVENT
BEGIN:VEVENT
SUMMARY:Easter Sunday Worship
DTSTART;TZID=Europe/London:20260405T093000
DTEND;TZID=Europe/London:20260405T103000
DTSTAMP:20260425T230319Z
UID:12843041775377800.0achurchnearyou
CATEGORIES:
DESCRIPTION:Come and celebrate Christ rising with us
GEO:-2.778508;52.27936
LOCATION:St. Leonard's Yarpole
URL:https://www.achurchnearyou.com/church/10792/service-and-events/events/
 1284304/
END:VEVENT
BEGIN:VEVENT
SUMMARY:First Sunday of the Month - Service is held at Croft
DTSTART;TZID=Europe/London:20260405T093000
DTEND;TZID=Europe/London:20260405T103000
DTSTAMP:20260425T230319Z
UID:6867861775377800.0achurchnearyou
CATEGORIES:
DESCRIPTION:Every First Sunday of a month we hold a Communion service at S
 t. Michael's Church at Croft castle
LOCATION:St Michaels and All Angels\, Croft Castle
URL:https://yarpole.com/index.php/church-parish-hall-bookings
END:VEVENT
BEGIN:VEVENT
SUMMARY:Second Sunday of Each Month 9.30am Morning Service
DTSTART;TZID=Europe/London:20260412T093000
DTEND;TZID=Europe/London:20260412T103000
DTSTAMP:20260425T230319Z
UID:6854391775982600.0achurchnearyou
CATEGORIES:
DESCRIPTION:Holy Communion  Service
GEO:-2.778508;52.27936
LOCATION:St. Leonard's Yarpole
URL:https://yarpole.com/index.php/church-parish-hall-bookings
END:VEVENT
BEGIN:VEVENT
SUMMARY:Third Sunday of each Month  - Book of Common Prayer
DTSTART;TZID=Europe/London:20260419T083000
DTEND;TZID=Europe/London:20260419T093000
DTSTAMP:20260425T230319Z
UID:8069041776583800.0achurchnearyou
CATEGORIES:
DESCRIPTION:Book of Common Prayer
GEO:-2.778508;52.27936
LOCATION:St. Leonard's Yarpole
URL:https://www.achurchnearyou.com/church/10792/service-and-events/events/
 806904/
END:VEVENT
BEGIN:VEVENT
SUMMARY:Celtic Prayer
DTSTART;TZID=Europe/London:20260419T150000
DTEND;TZID=Europe/London:20260419T160000
DTSTAMP:20260425T230319Z
UID:11815451776607200.0achurchnearyou
CATEGORIES:
DESCRIPTION:A contemplative service of music and prayer based on the Ionia
 n tradition.  Note the time of the service is 4.30 April - September and 3
 .30 October to March
GEO:-2.778508;52.27936
LOCATION:St. Leonard's Yarpole
URL:https://www.achurchnearyou.com/church/10792/service-and-events/events/
 1181545/
END:VEVENT
BEGIN:VEVENT
SUMMARY:Fourth Sunday : Lay led worship
DTSTART;TZID=Europe/London:20260426T103000
DTEND;TZID=Europe/London:20260426T113000
DTSTAMP:20260425T230319Z
UID:7459481777195800.0achurchnearyou
CATEGORIES:
DESCRIPTION:A visiting leader or member of our own congregation takes this
  lay led act of worship - no communion.  Usually followed by Coffee and Ca
 ke
GEO:-2.778508;52.27936
LOCATION:St. Leonard's Yarpole
URL:https://www.achurchnearyou.com/church/10792/service-and-events/events/
 745948/
END:VEVENT
BEGIN:VEVENT
SUMMARY:First Sunday of the Month - Service is held at Croft
DTSTART;TZID=Europe/London:20260503T093000
DTEND;TZID=Europe/London:20260503T103000
DTSTAMP:20260425T230319Z
UID:6867861777797000.0achurchnearyou
CATEGORIES:
DESCRIPTION:Every First Sunday of a month we hold a Communion service at S
 t. Michael's Church at Croft castle
LOCATION:St Michaels and All Angels\, Croft Castle
URL:https://yarpole.com/index.php/church-parish-hall-bookings
END:VEVENT
BEGIN:VEVENT
SUMMARY:Be Still
DTSTART;TZID=Europe/London:20260506T173000
DTEND;TZID=Europe/London:20260506T180000
DTSTAMP:20260425T230319Z
UID:11296941778085000.0achurchnearyou
CATEGORIES:
DESCRIPTION:Half an hour of music\, silence\, prayer and reflection\, usua
 lly but not always around a theme. Lay led
GEO:-2.778508;52.27936
LOCATION:St. Leonard's Yarpole
URL:https://www.achurchnearyou.com/church/10792/service-and-events/events/
 1129694/
END:VEVENT
BEGIN:VEVENT
SUMMARY:Second Sunday of Each Month 9.30am Morning Service
DTSTART;TZID=Europe/London:20260510T093000
DTEND;TZID=Europe/London:20260510T103000
DTSTAMP:20260425T230319Z
UID:6854391778401800.0achurchnearyou
CATEGORIES:
DESCRIPTION:Holy Communion  Service
GEO:-2.778508;52.27936
LOCATION:St. Leonard's Yarpole
URL:https://yarpole.com/index.php/church-parish-hall-bookings
END:VEVENT
BEGIN:VEVENT
SUMMARY:Third Sunday of each Month  - Book of Common Prayer
DTSTART;TZID=Europe/London:20260517T083000
DTEND;TZID=Europe/London:20260517T093000
DTSTAMP:20260425T230319Z
UID:8069041779003000.0achurchnearyou
CATEGORIES:
DESCRIPTION:Book of Common Prayer
GEO:-2.778508;52.27936
LOCATION:St. Leonard's Yarpole
URL:https://www.achurchnearyou.com/church/10792/service-and-events/events/
 806904/
END:VEVENT
BEGIN:VEVENT
SUMMARY:Celtic Prayer
DTSTART;TZID=Europe/London:20260517T150000
DTEND;TZID=Europe/London:20260517T160000
DTSTAMP:20260425T230319Z
UID:11815451779026400.0achurchnearyou
CATEGORIES:
DESCRIPTION:A contemplative service of music and prayer based on the Ionia
 n tradition.  Note the time of the service is 4.30 April - September and 3
 .30 October to March
GEO:-2.778508;52.27936
LOCATION:St. Leonard's Yarpole
URL:https://www.achurchnearyou.com/church/10792/service-and-events/events/
 1181545/
END:VEVENT
BEGIN:VEVENT
SUMMARY:Fourth Sunday : Lay led worship
DTSTART;TZID=Europe/London:20260524T103000
DTEND;TZID=Europe/London:20260524T113000
DTSTAMP:20260425T230319Z
UID:7459481779615000.0achurchnearyou
CATEGORIES:
DESCRIPTION:A visiting leader or member of our own congregation takes this
  lay led act of worship - no communion.  Usually followed by Coffee and Ca
 ke
GEO:-2.778508;52.27936
LOCATION:St. Leonard's Yarpole
URL:https://www.achurchnearyou.com/church/10792/service-and-events/events/
 745948/
END:VEVENT
BEGIN:VEVENT
SUMMARY:Be Still
DTSTART;TZID=Europe/London:20260603T173000
DTEND;TZID=Europe/London:20260603T180000
DTSTAMP:20260425T230319Z
UID:11296941780504200.0achurchnearyou
CATEGORIES:
DESCRIPTION:Half an hour of music\, silence\, prayer and reflection\, usua
 lly but not always around a theme. Lay led
GEO:-2.778508;52.27936
LOCATION:St. Leonard's Yarpole
URL:https://www.achurchnearyou.com/church/10792/service-and-events/events/
 1129694/
END:VEVENT
BEGIN:VEVENT
SUMMARY:First Sunday of the Month - Service is held at Croft
DTSTART;TZID=Europe/London:20260607T093000
DTEND;TZID=Europe/London:20260607T103000
DTSTAMP:20260425T230319Z
UID:6867861780821000.0achurchnearyou
CATEGORIES:
DESCRIPTION:Every First Sunday of a month we hold a Communion service at S
 t. Michael's Church at Croft castle
LOCATION:St Michaels and All Angels\, Croft Castle
URL:https://yarpole.com/index.php/church-parish-hall-bookings
END:VEVENT
BEGIN:VEVENT
SUMMARY:Second Sunday of Each Month 9.30am Morning Service
DTSTART;TZID=Europe/London:20260614T093000
DTEND;TZID=Europe/London:20260614T103000
DTSTAMP:20260425T230319Z
UID:6854391781425800.0achurchnearyou
CATEGORIES:
DESCRIPTION:Holy Communion  Service
GEO:-2.778508;52.27936
LOCATION:St. Leonard's Yarpole
URL:https://yarpole.com/index.php/church-parish-hall-bookings
END:VEVENT
BEGIN:VEVENT
SUMMARY:Third Sunday of each Month  - Book of Common Prayer
DTSTART;TZID=Europe/London:20260621T083000
DTEND;TZID=Europe/London:20260621T093000
DTSTAMP:20260425T230319Z
UID:8069041782027000.0achurchnearyou
CATEGORIES:
DESCRIPTION:Book of Common Prayer
GEO:-2.778508;52.27936
LOCATION:St. Leonard's Yarpole
URL:https://www.achurchnearyou.com/church/10792/service-and-events/events/
 806904/
END:VEVENT
BEGIN:VEVENT
SUMMARY:Celtic Prayer
DTSTART;TZID=Europe/London:20260621T150000
DTEND;TZID=Europe/London:20260621T160000
DTSTAMP:20260425T230319Z
UID:11815451782050400.0achurchnearyou
CATEGORIES:
DESCRIPTION:A contemplative service of music and prayer based on the Ionia
 n tradition.  Note the time of the service is 4.30 April - September and 3
 .30 October to March
GEO:-2.778508;52.27936
LOCATION:St. Leonard's Yarpole
URL:https://www.achurchnearyou.com/church/10792/service-and-events/events/
 1181545/
END:VEVENT
BEGIN:VEVENT
SUMMARY:Fourth Sunday : Lay led worship
DTSTART;TZID=Europe/London:20260628T103000
DTEND;TZID=Europe/London:20260628T113000
DTSTAMP:20260425T230319Z
UID:7459481782639000.0achurchnearyou
CATEGORIES:
DESCRIPTION:A visiting leader or member of our own congregation takes this
  lay led act of worship - no communion.  Usually followed by Coffee and Ca
 ke
GEO:-2.778508;52.27936
LOCATION:St. Leonard's Yarpole
URL:https://www.achurchnearyou.com/church/10792/service-and-events/events/
 745948/
END:VEVENT
BEGIN:VEVENT
SUMMARY:Be Still
DTSTART;TZID=Europe/London:20260701T173000
DTEND;TZID=Europe/London:20260701T180000
DTSTAMP:20260425T230319Z
UID:11296941782923400.0achurchnearyou
CATEGORIES:
DESCRIPTION:Half an hour of music\, silence\, prayer and reflection\, usua
 lly but not always around a theme. Lay led
GEO:-2.778508;52.27936
LOCATION:St. Leonard's Yarpole
URL:https://www.achurchnearyou.com/church/10792/service-and-events/events/
 1129694/
END:VEVENT
BEGIN:VEVENT
SUMMARY:First Sunday of the Month - Service is held at Croft
DTSTART;TZID=Europe/London:20260705T093000
DTEND;TZID=Europe/London:20260705T103000
DTSTAMP:20260425T230319Z
UID:6867861783240200.0achurchnearyou
CATEGORIES:
DESCRIPTION:Every First Sunday of a month we hold a Communion service at S
 t. Michael's Church at Croft castle
LOCATION:St Michaels and All Angels\, Croft Castle
URL:https://yarpole.com/index.php/church-parish-hall-bookings
END:VEVENT
BEGIN:VEVENT
SUMMARY:Second Sunday of Each Month 9.30am Morning Service
DTSTART;TZID=Europe/London:20260712T093000
DTEND;TZID=Europe/London:20260712T103000
DTSTAMP:20260425T230319Z
UID:6854391783845000.0achurchnearyou
CATEGORIES:
DESCRIPTION:Holy Communion  Service
GEO:-2.778508;52.27936
LOCATION:St. Leonard's Yarpole
URL:https://yarpole.com/index.php/church-parish-hall-bookings
END:VEVENT
BEGIN:VEVENT
SUMMARY:Third Sunday of each Month  - Book of Common Prayer
DTSTART;TZID=Europe/London:20260719T083000
DTEND;TZID=Europe/London:20260719T093000
DTSTAMP:20260425T230319Z
UID:8069041784446200.0achurchnearyou
CATEGORIES:
DESCRIPTION:Book of Common Prayer
GEO:-2.778508;52.27936
LOCATION:St. Leonard's Yarpole
URL:https://www.achurchnearyou.com/church/10792/service-and-events/events/
 806904/
END:VEVENT
BEGIN:VEVENT
SUMMARY:Celtic Prayer
DTSTART;TZID=Europe/London:20260719T150000
DTEND;TZID=Europe/London:20260719T160000
DTSTAMP:20260425T230319Z
UID:11815451784469600.0achurchnearyou
CATEGORIES:
DESCRIPTION:A contemplative service of music and prayer based on the Ionia
 n tradition.  Note the time of the service is 4.30 April - September and 3
 .30 October to March
GEO:-2.778508;52.27936
LOCATION:St. Leonard's Yarpole
URL:https://www.achurchnearyou.com/church/10792/service-and-events/events/
 1181545/
END:VEVENT
BEGIN:VEVENT
SUMMARY:Fourth Sunday : Lay led worship
DTSTART;TZID=Europe/London:20260726T103000
DTEND;TZID=Europe/London:20260726T113000
DTSTAMP:20260425T230319Z
UID:7459481785058200.0achurchnearyou
CATEGORIES:
DESCRIPTION:A visiting leader or member of our own congregation takes this
  lay led act of worship - no communion.  Usually followed by Coffee and Ca
 ke
GEO:-2.778508;52.27936
LOCATION:St. Leonard's Yarpole
URL:https://www.achurchnearyou.com/church/10792/service-and-events/events/
 745948/
END:VEVENT
BEGIN:VEVENT
SUMMARY:First Sunday of the Month - Service is held at Croft
DTSTART;TZID=Europe/London:20260802T093000
DTEND;TZID=Europe/London:20260802T103000
DTSTAMP:20260425T230319Z
UID:6867861785659400.0achurchnearyou
CATEGORIES:
DESCRIPTION:Every First Sunday of a month we hold a Communion service at S
 t. Michael's Church at Croft castle
LOCATION:St Michaels and All Angels\, Croft Castle
URL:https://yarpole.com/index.php/church-parish-hall-bookings
END:VEVENT
BEGIN:VEVENT
SUMMARY:Be Still
DTSTART;TZID=Europe/London:20260805T173000
DTEND;TZID=Europe/London:20260805T180000
DTSTAMP:20260425T230319Z
UID:11296941785947400.0achurchnearyou
CATEGORIES:
DESCRIPTION:Half an hour of music\, silence\, prayer and reflection\, usua
 lly but not always around a theme. Lay led
GEO:-2.778508;52.27936
LOCATION:St. Leonard's Yarpole
URL:https://www.achurchnearyou.com/church/10792/service-and-events/events/
 1129694/
END:VEVENT
BEGIN:VEVENT
SUMMARY:Second Sunday of Each Month 9.30am Morning Service
DTSTART;TZID=Europe/London:20260809T093000
DTEND;TZID=Europe/London:20260809T103000
DTSTAMP:20260425T230319Z
UID:6854391786264200.0achurchnearyou
CATEGORIES:
DESCRIPTION:Holy Communion  Service
GEO:-2.778508;52.27936
LOCATION:St. Leonard's Yarpole
URL:https://yarpole.com/index.php/church-parish-hall-bookings
END:VEVENT
BEGIN:VEVENT
SUMMARY:Third Sunday of each Month  - Book of Common Prayer
DTSTART;TZID=Europe/London:20260816T083000
DTEND;TZID=Europe/London:20260816T093000
DTSTAMP:20260425T230319Z
UID:8069041786865400.0achurchnearyou
CATEGORIES:
DESCRIPTION:Book of Common Prayer
GEO:-2.778508;52.27936
LOCATION:St. Leonard's Yarpole
URL:https://www.achurchnearyou.com/church/10792/service-and-events/events/
 806904/
END:VEVENT
BEGIN:VEVENT
SUMMARY:Celtic Prayer
DTSTART;TZID=Europe/London:20260816T150000
DTEND;TZID=Europe/London:20260816T160000
DTSTAMP:20260425T230319Z
UID:11815451786888800.0achurchnearyou
CATEGORIES:
DESCRIPTION:A contemplative service of music and prayer based on the Ionia
 n tradition.  Note the time of the service is 4.30 April - September and 3
 .30 October to March
GEO:-2.778508;52.27936
LOCATION:St. Leonard's Yarpole
URL:https://www.achurchnearyou.com/church/10792/service-and-events/events/
 1181545/
END:VEVENT
BEGIN:VEVENT
SUMMARY:Fourth Sunday : Lay led worship
DTSTART;TZID=Europe/London:20260823T103000
DTEND;TZID=Europe/London:20260823T113000
DTSTAMP:20260425T230319Z
UID:7459481787477400.0achurchnearyou
CATEGORIES:
DESCRIPTION:A visiting leader or member of our own congregation takes this
  lay led act of worship - no communion.  Usually followed by Coffee and Ca
 ke
GEO:-2.778508;52.27936
LOCATION:St. Leonard's Yarpole
URL:https://www.achurchnearyou.com/church/10792/service-and-events/events/
 745948/
END:VEVENT
BEGIN:VEVENT
SUMMARY:Be Still
DTSTART;TZID=Europe/London:20260902T173000
DTEND;TZID=Europe/London:20260902T180000
DTSTAMP:20260425T230319Z
UID:11296941788366600.0achurchnearyou
CATEGORIES:
DESCRIPTION:Half an hour of music\, silence\, prayer and reflection\, usua
 lly but not always around a theme. Lay led
GEO:-2.778508;52.27936
LOCATION:St. Leonard's Yarpole
URL:https://www.achurchnearyou.com/church/10792/service-and-events/events/
 1129694/
END:VEVENT
BEGIN:VEVENT
SUMMARY:First Sunday of the Month - Service is held at Croft
DTSTART;TZID=Europe/London:20260906T093000
DTEND;TZID=Europe/London:20260906T103000
DTSTAMP:20260425T230319Z
UID:6867861788683400.0achurchnearyou
CATEGORIES:
DESCRIPTION:Every First Sunday of a month we hold a Communion service at S
 t. Michael's Church at Croft castle
LOCATION:St Michaels and All Angels\, Croft Castle
URL:https://yarpole.com/index.php/church-parish-hall-bookings
END:VEVENT
BEGIN:VEVENT
SUMMARY:Second Sunday of Each Month 9.30am Morning Service
DTSTART;TZID=Europe/London:20260913T093000
DTEND;TZID=Europe/London:20260913T103000
DTSTAMP:20260425T230319Z
UID:6854391789288200.0achurchnearyou
CATEGORIES:
DESCRIPTION:Holy Communion  Service
GEO:-2.778508;52.27936
LOCATION:St. Leonard's Yarpole
URL:https://yarpole.com/index.php/church-parish-hall-bookings
END:VEVENT
BEGIN:VEVENT
SUMMARY:Third Sunday of each Month  - Book of Common Prayer
DTSTART;TZID=Europe/London:20260920T083000
DTEND;TZID=Europe/London:20260920T093000
DTSTAMP:20260425T230319Z
UID:8069041789889400.0achurchnearyou
CATEGORIES:
DESCRIPTION:Book of Common Prayer
GEO:-2.778508;52.27936
LOCATION:St. Leonard's Yarpole
URL:https://www.achurchnearyou.com/church/10792/service-and-events/events/
 806904/
END:VEVENT
BEGIN:VEVENT
SUMMARY:Celtic Prayer
DTSTART;TZID=Europe/London:20260920T150000
DTEND;TZID=Europe/London:20260920T160000
DTSTAMP:20260425T230319Z
UID:11815451789912800.0achurchnearyou
CATEGORIES:
DESCRIPTION:A contemplative service of music and prayer based on the Ionia
 n tradition.  Note the time of the service is 4.30 April - September and 3
 .30 October to March
GEO:-2.778508;52.27936
LOCATION:St. Leonard's Yarpole
URL:https://www.achurchnearyou.com/church/10792/service-and-events/events/
 1181545/
END:VEVENT
BEGIN:VEVENT
SUMMARY:Fourth Sunday : Lay led worship
DTSTART;TZID=Europe/London:20260927T103000
DTEND;TZID=Europe/London:20260927T113000
DTSTAMP:20260425T230319Z
UID:7459481790501400.0achurchnearyou
CATEGORIES:
DESCRIPTION:A visiting leader or member of our own congregation takes this
  lay led act of worship - no communion.  Usually followed by Coffee and Ca
 ke
GEO:-2.778508;52.27936
LOCATION:St. Leonard's Yarpole
URL:https://www.achurchnearyou.com/church/10792/service-and-events/events/
 745948/
END:VEVENT
END:VCALENDAR
