BEGIN:VCALENDAR
VERSION:2.0
PRODID:-//achurchnearyou.com//eventfeed//EN
CALSCALE:GREGORIAN
METHOD:PUBLISH
X-WR-TIMEZONE:UTC
BEGIN:VEVENT
SUMMARY:Holy Communion
DTSTART:20250420T090000Z
DTEND:20250420T101500Z
DTSTAMP:20260424T151021Z
UID:11795122025-04-20 09:00:00+00:00achurchnearyou
CATEGORIES:
DESCRIPTION:Easter Sunday
GEO:-2.986285;53.653451
LOCATION:Southport: All Saints
URL:https://www.achurchnearyou.com/church/10837/service-and-events/events/
 1179512/
END:VEVENT
END:VCALENDAR
