BEGIN:VCALENDAR
VERSION:2.0
PRODID:-//achurchnearyou.com//eventfeed//EN
CALSCALE:GREGORIAN
METHOD:PUBLISH
X-WR-TIMEZONE:UTC
BEGIN:VEVENT
SUMMARY:Worship for Everyone
DTSTART;TZID=Europe/London:20260426T100000
DTEND;TZID=Europe/London:20260426T110000
DTSTAMP:20260423T074109Z
UID:9818362026-04-26 10:00:00+01:00achurchnearyou
CATEGORIES:
DESCRIPTION:An interactive intergenerational service for all the family.  
 Typically around 1 hour. Refreshments served before (from 9:45 ) and after
 wards.
GEO:-1.882224;52.271813
LOCATION:Studley - St Mary's
URL:https://www.achurchnearyou.com/church/10839/service-and-events/events/
 981836/
END:VEVENT
BEGIN:VEVENT
SUMMARY:Worship for Everyone
DTSTART;TZID=Europe/London:20260524T100000
DTEND;TZID=Europe/London:20260524T110000
DTSTAMP:20260423T074109Z
UID:9818362026-05-24 10:00:00+01:00achurchnearyou
CATEGORIES:
DESCRIPTION:An interactive intergenerational service for all the family.  
 Typically around 1 hour. Refreshments served before (from 9:45 ) and after
 wards.
GEO:-1.882224;52.271813
LOCATION:Studley - St Mary's
URL:https://www.achurchnearyou.com/church/10839/service-and-events/events/
 981836/
END:VEVENT
BEGIN:VEVENT
SUMMARY:Worship for Everyone
DTSTART;TZID=Europe/London:20260628T100000
DTEND;TZID=Europe/London:20260628T110000
DTSTAMP:20260423T074109Z
UID:9818362026-06-28 10:00:00+01:00achurchnearyou
CATEGORIES:
DESCRIPTION:An interactive intergenerational service for all the family.  
 Typically around 1 hour. Refreshments served before (from 9:45 ) and after
 wards.
GEO:-1.882224;52.271813
LOCATION:Studley - St Mary's
URL:https://www.achurchnearyou.com/church/10839/service-and-events/events/
 981836/
END:VEVENT
BEGIN:VEVENT
SUMMARY:Worship for Everyone
DTSTART;TZID=Europe/London:20260726T100000
DTEND;TZID=Europe/London:20260726T110000
DTSTAMP:20260423T074109Z
UID:9818362026-07-26 10:00:00+01:00achurchnearyou
CATEGORIES:
DESCRIPTION:An interactive intergenerational service for all the family.  
 Typically around 1 hour. Refreshments served before (from 9:45 ) and after
 wards.
GEO:-1.882224;52.271813
LOCATION:Studley - St Mary's
URL:https://www.achurchnearyou.com/church/10839/service-and-events/events/
 981836/
END:VEVENT
BEGIN:VEVENT
SUMMARY:Worship for Everyone
DTSTART;TZID=Europe/London:20260823T100000
DTEND;TZID=Europe/London:20260823T110000
DTSTAMP:20260423T074109Z
UID:9818362026-08-23 10:00:00+01:00achurchnearyou
CATEGORIES:
DESCRIPTION:An interactive intergenerational service for all the family.  
 Typically around 1 hour. Refreshments served before (from 9:45 ) and after
 wards.
GEO:-1.882224;52.271813
LOCATION:Studley - St Mary's
URL:https://www.achurchnearyou.com/church/10839/service-and-events/events/
 981836/
END:VEVENT
BEGIN:VEVENT
SUMMARY:Worship for Everyone
DTSTART;TZID=Europe/London:20260927T100000
DTEND;TZID=Europe/London:20260927T110000
DTSTAMP:20260423T074109Z
UID:9818362026-09-27 10:00:00+01:00achurchnearyou
CATEGORIES:
DESCRIPTION:An interactive intergenerational service for all the family.  
 Typically around 1 hour. Refreshments served before (from 9:45 ) and after
 wards.
GEO:-1.882224;52.271813
LOCATION:Studley - St Mary's
URL:https://www.achurchnearyou.com/church/10839/service-and-events/events/
 981836/
END:VEVENT
BEGIN:VEVENT
SUMMARY:Worship for Everyone
DTSTART;TZID=Europe/London:20261025T100000
DTEND;TZID=Europe/London:20261025T110000
DTSTAMP:20260423T074109Z
UID:9818362026-10-25 10:00:00+00:00achurchnearyou
CATEGORIES:
DESCRIPTION:An interactive intergenerational service for all the family.  
 Typically around 1 hour. Refreshments served before (from 9:45 ) and after
 wards.
GEO:-1.882224;52.271813
LOCATION:Studley - St Mary's
URL:https://www.achurchnearyou.com/church/10839/service-and-events/events/
 981836/
END:VEVENT
BEGIN:VEVENT
SUMMARY:Worship for Everyone
DTSTART;TZID=Europe/London:20261122T100000
DTEND;TZID=Europe/London:20261122T110000
DTSTAMP:20260423T074109Z
UID:9818362026-11-22 10:00:00+00:00achurchnearyou
CATEGORIES:
DESCRIPTION:An interactive intergenerational service for all the family.  
 Typically around 1 hour. Refreshments served before (from 9:45 ) and after
 wards.
GEO:-1.882224;52.271813
LOCATION:Studley - St Mary's
URL:https://www.achurchnearyou.com/church/10839/service-and-events/events/
 981836/
END:VEVENT
BEGIN:VEVENT
SUMMARY:Worship for Everyone
DTSTART;TZID=Europe/London:20261227T100000
DTEND;TZID=Europe/London:20261227T110000
DTSTAMP:20260423T074109Z
UID:9818362026-12-27 10:00:00+00:00achurchnearyou
CATEGORIES:
DESCRIPTION:An interactive intergenerational service for all the family.  
 Typically around 1 hour. Refreshments served before (from 9:45 ) and after
 wards.
GEO:-1.882224;52.271813
LOCATION:Studley - St Mary's
URL:https://www.achurchnearyou.com/church/10839/service-and-events/events/
 981836/
END:VEVENT
BEGIN:VEVENT
SUMMARY:Worship for Everyone
DTSTART;TZID=Europe/London:20270124T100000
DTEND;TZID=Europe/London:20270124T110000
DTSTAMP:20260423T074109Z
UID:9818362027-01-24 10:00:00+00:00achurchnearyou
CATEGORIES:
DESCRIPTION:An interactive intergenerational service for all the family.  
 Typically around 1 hour. Refreshments served before (from 9:45 ) and after
 wards.
GEO:-1.882224;52.271813
LOCATION:Studley - St Mary's
URL:https://www.achurchnearyou.com/church/10839/service-and-events/events/
 981836/
END:VEVENT
BEGIN:VEVENT
SUMMARY:Worship for Everyone
DTSTART;TZID=Europe/London:20270228T100000
DTEND;TZID=Europe/London:20270228T110000
DTSTAMP:20260423T074109Z
UID:9818362027-02-28 10:00:00+00:00achurchnearyou
CATEGORIES:
DESCRIPTION:An interactive intergenerational service for all the family.  
 Typically around 1 hour. Refreshments served before (from 9:45 ) and after
 wards.
GEO:-1.882224;52.271813
LOCATION:Studley - St Mary's
URL:https://www.achurchnearyou.com/church/10839/service-and-events/events/
 981836/
END:VEVENT
BEGIN:VEVENT
SUMMARY:Worship for Everyone
DTSTART;TZID=Europe/London:20270328T100000
DTEND;TZID=Europe/London:20270328T110000
DTSTAMP:20260423T074109Z
UID:9818362027-03-28 10:00:00+01:00achurchnearyou
CATEGORIES:
DESCRIPTION:An interactive intergenerational service for all the family.  
 Typically around 1 hour. Refreshments served before (from 9:45 ) and after
 wards.
GEO:-1.882224;52.271813
LOCATION:Studley - St Mary's
URL:https://www.achurchnearyou.com/church/10839/service-and-events/events/
 981836/
END:VEVENT
END:VCALENDAR
