BEGIN:VCALENDAR
VERSION:2.0
PRODID:-//achurchnearyou.com//eventfeed//EN
CALSCALE:GREGORIAN
METHOD:PUBLISH
X-WR-TIMEZONE:UTC
BEGIN:VEVENT
SUMMARY:Forget Me Not Friends
DTSTART;TZID=Europe/London:20250125T100000
DTEND;TZID=Europe/London:20250125T120000
DTSTAMP:20260425T012829Z
UID:11469232025-01-25 10:00:00+00:00achurchnearyou
CATEGORIES:
DESCRIPTION:Join us on the fourth Saturday each month at Broadmead Day Cen
 tre\, Golborne Road\, for a cuppa\, a chat\, a bite to eat. We have regula
 r entertainment\, bingo\, sing songs and much more. We are dementia-friend
 ly. Don't be alone\, come and make some Forget Me Not Friends.
LOCATION:Broadmead Day Centre
URL:https://www.achurchnearyou.com/church/10841/service-and-events/events/
 1146923/
END:VEVENT
BEGIN:VEVENT
SUMMARY:Forget Me Not Friends
DTSTART;TZID=Europe/London:20250222T100000
DTEND;TZID=Europe/London:20250222T120000
DTSTAMP:20260425T012829Z
UID:11469232025-02-22 10:00:00+00:00achurchnearyou
CATEGORIES:
DESCRIPTION:Join us on the fourth Saturday each month at Broadmead Day Cen
 tre\, Golborne Road\, for a cuppa\, a chat\, a bite to eat. We have regula
 r entertainment\, bingo\, sing songs and much more. We are dementia-friend
 ly. Don't be alone\, come and make some Forget Me Not Friends.
LOCATION:Broadmead Day Centre
URL:https://www.achurchnearyou.com/church/10841/service-and-events/events/
 1146923/
END:VEVENT
BEGIN:VEVENT
SUMMARY:Forget Me Not Friends
DTSTART;TZID=Europe/London:20250322T100000
DTEND;TZID=Europe/London:20250322T120000
DTSTAMP:20260425T012829Z
UID:11469232025-03-22 10:00:00+00:00achurchnearyou
CATEGORIES:
DESCRIPTION:Join us on the fourth Saturday each month at Broadmead Day Cen
 tre\, Golborne Road\, for a cuppa\, a chat\, a bite to eat. We have regula
 r entertainment\, bingo\, sing songs and much more. We are dementia-friend
 ly. Don't be alone\, come and make some Forget Me Not Friends.
LOCATION:Broadmead Day Centre
URL:https://www.achurchnearyou.com/church/10841/service-and-events/events/
 1146923/
END:VEVENT
BEGIN:VEVENT
SUMMARY:Forget Me Not Friends
DTSTART;TZID=Europe/London:20250426T100000
DTEND;TZID=Europe/London:20250426T120000
DTSTAMP:20260425T012829Z
UID:11469232025-04-26 10:00:00+01:00achurchnearyou
CATEGORIES:
DESCRIPTION:Join us on the fourth Saturday each month at Broadmead Day Cen
 tre\, Golborne Road\, for a cuppa\, a chat\, a bite to eat. We have regula
 r entertainment\, bingo\, sing songs and much more. We are dementia-friend
 ly. Don't be alone\, come and make some Forget Me Not Friends.
LOCATION:Broadmead Day Centre
URL:https://www.achurchnearyou.com/church/10841/service-and-events/events/
 1146923/
END:VEVENT
BEGIN:VEVENT
SUMMARY:Forget Me Not Friends
DTSTART;TZID=Europe/London:20250524T100000
DTEND;TZID=Europe/London:20250524T120000
DTSTAMP:20260425T012829Z
UID:11469232025-05-24 10:00:00+01:00achurchnearyou
CATEGORIES:
DESCRIPTION:Join us on the fourth Saturday each month at Broadmead Day Cen
 tre\, Golborne Road\, for a cuppa\, a chat\, a bite to eat. We have regula
 r entertainment\, bingo\, sing songs and much more. We are dementia-friend
 ly. Don't be alone\, come and make some Forget Me Not Friends.
LOCATION:Broadmead Day Centre
URL:https://www.achurchnearyou.com/church/10841/service-and-events/events/
 1146923/
END:VEVENT
BEGIN:VEVENT
SUMMARY:Forget Me Not Friends
DTSTART;TZID=Europe/London:20250628T100000
DTEND;TZID=Europe/London:20250628T120000
DTSTAMP:20260425T012829Z
UID:11469232025-06-28 10:00:00+01:00achurchnearyou
CATEGORIES:
DESCRIPTION:Join us on the fourth Saturday each month at Broadmead Day Cen
 tre\, Golborne Road\, for a cuppa\, a chat\, a bite to eat. We have regula
 r entertainment\, bingo\, sing songs and much more. We are dementia-friend
 ly. Don't be alone\, come and make some Forget Me Not Friends.
LOCATION:Broadmead Day Centre
URL:https://www.achurchnearyou.com/church/10841/service-and-events/events/
 1146923/
END:VEVENT
BEGIN:VEVENT
SUMMARY:Forget Me Not Friends
DTSTART;TZID=Europe/London:20250726T100000
DTEND;TZID=Europe/London:20250726T120000
DTSTAMP:20260425T012829Z
UID:11469232025-07-26 10:00:00+01:00achurchnearyou
CATEGORIES:
DESCRIPTION:Join us on the fourth Saturday each month at Broadmead Day Cen
 tre\, Golborne Road\, for a cuppa\, a chat\, a bite to eat. We have regula
 r entertainment\, bingo\, sing songs and much more. We are dementia-friend
 ly. Don't be alone\, come and make some Forget Me Not Friends.
LOCATION:Broadmead Day Centre
URL:https://www.achurchnearyou.com/church/10841/service-and-events/events/
 1146923/
END:VEVENT
BEGIN:VEVENT
SUMMARY:Forget Me Not Friends
DTSTART;TZID=Europe/London:20250823T100000
DTEND;TZID=Europe/London:20250823T120000
DTSTAMP:20260425T012829Z
UID:11469232025-08-23 10:00:00+01:00achurchnearyou
CATEGORIES:
DESCRIPTION:Join us on the fourth Saturday each month at Broadmead Day Cen
 tre\, Golborne Road\, for a cuppa\, a chat\, a bite to eat. We have regula
 r entertainment\, bingo\, sing songs and much more. We are dementia-friend
 ly. Don't be alone\, come and make some Forget Me Not Friends.
LOCATION:Broadmead Day Centre
URL:https://www.achurchnearyou.com/church/10841/service-and-events/events/
 1146923/
END:VEVENT
BEGIN:VEVENT
SUMMARY:Forget Me Not Friends
DTSTART;TZID=Europe/London:20250927T100000
DTEND;TZID=Europe/London:20250927T120000
DTSTAMP:20260425T012829Z
UID:11469232025-09-27 10:00:00+01:00achurchnearyou
CATEGORIES:
DESCRIPTION:Join us on the fourth Saturday each month at Broadmead Day Cen
 tre\, Golborne Road\, for a cuppa\, a chat\, a bite to eat. We have regula
 r entertainment\, bingo\, sing songs and much more. We are dementia-friend
 ly. Don't be alone\, come and make some Forget Me Not Friends.
LOCATION:Broadmead Day Centre
URL:https://www.achurchnearyou.com/church/10841/service-and-events/events/
 1146923/
END:VEVENT
BEGIN:VEVENT
SUMMARY:Forget Me Not Friends
DTSTART;TZID=Europe/London:20251025T100000
DTEND;TZID=Europe/London:20251025T120000
DTSTAMP:20260425T012829Z
UID:11469232025-10-25 10:00:00+01:00achurchnearyou
CATEGORIES:
DESCRIPTION:Join us on the fourth Saturday each month at Broadmead Day Cen
 tre\, Golborne Road\, for a cuppa\, a chat\, a bite to eat. We have regula
 r entertainment\, bingo\, sing songs and much more. We are dementia-friend
 ly. Don't be alone\, come and make some Forget Me Not Friends.
LOCATION:Broadmead Day Centre
URL:https://www.achurchnearyou.com/church/10841/service-and-events/events/
 1146923/
END:VEVENT
BEGIN:VEVENT
SUMMARY:Forget Me Not Friends
DTSTART;TZID=Europe/London:20251122T100000
DTEND;TZID=Europe/London:20251122T120000
DTSTAMP:20260425T012829Z
UID:11469232025-11-22 10:00:00+00:00achurchnearyou
CATEGORIES:
DESCRIPTION:Join us on the fourth Saturday each month at Broadmead Day Cen
 tre\, Golborne Road\, for a cuppa\, a chat\, a bite to eat. We have regula
 r entertainment\, bingo\, sing songs and much more. We are dementia-friend
 ly. Don't be alone\, come and make some Forget Me Not Friends.
LOCATION:Broadmead Day Centre
URL:https://www.achurchnearyou.com/church/10841/service-and-events/events/
 1146923/
END:VEVENT
END:VCALENDAR
