BEGIN:VCALENDAR
VERSION:2.0
PRODID:-//achurchnearyou.com//eventfeed//EN
CALSCALE:GREGORIAN
METHOD:PUBLISH
X-WR-TIMEZONE:UTC
BEGIN:VEVENT
SUMMARY:What's on at St. Luke this Week
DTSTART:20250319T100000Z
DTEND:20250323T110000Z
DTSTAMP:20260425T221006Z
UID:11737112025-03-19 10:00:00+00:00achurchnearyou
CATEGORIES:
DESCRIPTION:Every Wednesday 10 a.m. \nService of Holy Communion\n\nEvery T
 hursday \n8.45 a.m. to 10 a.m. \nCall In and Share a Cuppa\, a Biscuit \na
 nd a Chat\n\nSaturday 22nd March 10 a.m.\nForget Me Not Friends at Broadme
 ad Day Centre\nA Cuppa\, a Bite to Eat\, a Chat. Come and Sing Along with 
 Analise!\n\nSunday 23rd March \n8.30 a.m. Spoken Service of Holy Communion
 \n10 a.m. All Age Worship for Everyone \n\nEVERYONE IS VERY WELCOME TO JOI
 N US\nCOME AND SEE!
GEO:-2.580472;53.475381
LOCATION:Lowton St. Luke
URL:https://www.achurchnearyou.com/church/10841/service-and-events/events/
 1173711/
END:VEVENT
END:VCALENDAR
