BEGIN:VCALENDAR
VERSION:2.0
PRODID:-//achurchnearyou.com//eventfeed//EN
CALSCALE:GREGORIAN
METHOD:PUBLISH
X-WR-TIMEZONE:UTC
BEGIN:VEVENT
SUMMARY:Forget Me Not Friends
DTSTART:20250322T100000Z
DTEND:20250322T120000Z
DTSTAMP:20260426T014031Z
UID:11737142025-03-22 10:00:00+00:00achurchnearyou
CATEGORIES:
DESCRIPTION:March’s Forget Me Not Friends will be at Broadmead Day Centr
 e\, Golborne Road on the 22nd  March between 10 a.m. and 12 noon. Come and
  see what you have been missing and BRING A FRIEND! This month\, Analise i
 s returning by popular demand. Be prepared for a Sing-a-Long!\n\n.Admissio
 n is free. Don’t be on your own. We have many new members\, and lots of 
 old friends too.  Come and be one of them\, and join us for a brew\, a bit
 e to eat Aand make some new friends. Although we are a dementia-friendly g
 roup\, EVERYONE is very welcome to join us
LOCATION:Broadmead Day Centre
URL:https://www.achurchnearyou.com/church/10841/service-and-events/events/
 1173714/
END:VEVENT
END:VCALENDAR
