BEGIN:VCALENDAR
VERSION:2.0
PRODID:-//achurchnearyou.com//eventfeed//EN
CALSCALE:GREGORIAN
METHOD:PUBLISH
X-WR-TIMEZONE:UTC
BEGIN:VEVENT
SUMMARY:Community Showcase Day
DTSTART:20250628T090000Z
DTEND:20250628T130000Z
DTSTAMP:20260425T142639Z
UID:11975402025-06-28 09:00:00+00:00achurchnearyou
CATEGORIES:
DESCRIPTION:Do you know what’s going on where you live?\nLowton and Golb
 orne is a buzzing with lots of groups\, charities and services which you m
 ay never have heard of. \nCome along and find out about:\nCouncil Services
  \nVolunteer Groups\nSocial activities\nCome and meet Kevin the Klown!\nRe
 freshments- Activities\nDon’t Miss It!
LOCATION:Broadmead Day Centre
URL:https://www.achurchnearyou.com/church/10841/service-and-events/events/
 1197540/
END:VEVENT
END:VCALENDAR
