BEGIN:VCALENDAR
VERSION:2.0
PRODID:-//achurchnearyou.com//eventfeed//EN
CALSCALE:GREGORIAN
METHOD:PUBLISH
X-WR-TIMEZONE:UTC
BEGIN:VEVENT
SUMMARY:What's On at St. Luke This Week
DTSTART:20251126T100000Z
DTEND:20251130T190000Z
DTSTAMP:20260425T041944Z
UID:12553552025-11-26 10:00:00+00:00achurchnearyou
CATEGORIES:
DESCRIPTION:Wednesday 26th November\n\n10 a.m. Service of Holy Communion\,
  led by  Revd. Dave Hamlett\, followed by a coffee morning\n\nThursday 27t
 h November\n\n8.45 a.m.  Call in and Share Coffee Morning\n\n\nSunday 30th
  November\n\n10.30 a.m. Joint Service at St. Thomas\,  led by  Fr. Simon\n
 (NO SERVICE AT ST. LUKE)\n\n\n5 p.m. Christmas Lights Switch-On.\n\nEVERYO
 NE IS VERY WELCOME  TO JOIN US.
GEO:-2.580472;53.475381
LOCATION:Lowton St. Luke
URL:https://www.achurchnearyou.com/church/10841/service-and-events/events/
 1255355/
END:VEVENT
END:VCALENDAR
