BEGIN:VCALENDAR
VERSION:2.0
PRODID:-//achurchnearyou.com//eventfeed//EN
CALSCALE:GREGORIAN
METHOD:PUBLISH
X-WR-TIMEZONE:UTC
BEGIN:VEVENT
SUMMARY:Forget Me Not Friends January 2026
DTSTART:20260124T100000Z
DTEND:20260124T120000Z
DTSTAMP:20260425T030218Z
UID:12789832026-01-24 10:00:00+00:00achurchnearyou
CATEGORIES:
DESCRIPTION:HAPPY NEW YEAR TO ALL OUR FORGET ME NOT FRIENDS!\n\nJanuary is
  games day\, or you can just sit and chat. We meet between 10 a.m. and 12 
 noon for a brew and a bite to eat.  Admission is free. Don’t be on your 
 own. We have many new members. Come and be one of them. \nWe meet at the B
 roadmead Day Centre on Golborne Road\, just past the Ram's Head.\n\n\nEVER
 YONE IS WELCOME.\n\n(Please note that refreshments are served only between
  10 a.m. and 10.45 a.m.)
GEO:-2.580472;53.475381
LOCATION:Lowton St. Luke
URL:https://www.achurchnearyou.com/church/10841/service-and-events/events/
 1278983/
END:VEVENT
END:VCALENDAR
