BEGIN:VCALENDAR
VERSION:2.0
PRODID:-//achurchnearyou.com//eventfeed//EN
CALSCALE:GREGORIAN
METHOD:PUBLISH
X-WR-TIMEZONE:UTC
BEGIN:VEVENT
SUMMARY:Visiting Bell Ringers
DTSTART:20260704T100000Z
DTEND:20260704T110000Z
DTSTAMP:20260424T125645Z
UID:12936012026-07-04 10:00:00+00:00achurchnearyou
CATEGORIES:
DESCRIPTION:The four shires guild of ringers will be visiting St Andrew's 
 Church tower.
GEO:-2.776089;51.273717
LOCATION:St Andrew's Church\, Cheddar
URL:https://www.achurchnearyou.com/church/10860/service-and-events/events/
 1293601/
END:VEVENT
END:VCALENDAR
