BEGIN:VCALENDAR
VERSION:2.0
PRODID:-//achurchnearyou.com//eventfeed//EN
CALSCALE:GREGORIAN
METHOD:PUBLISH
X-WR-TIMEZONE:UTC
BEGIN:VEVENT
SUMMARY:The Mendip Consort of Recorders
DTSTART:20260628T110000Z
DTEND:20260628T120000Z
DTSTAMP:20260424T055703Z
UID:13196282026-06-28 11:00:00+00:00achurchnearyou
CATEGORIES:
DESCRIPTION:The Mendip Consort of Recorders presents "Ave Maria"\, a varie
 ty of composers' musical settings.\n\nRetiring collection to raise funds f
 or St Peter's Church.
GEO:-2.752048;51.258195
LOCATION:St Peter's Church\, Draycott
URL:https://www.achurchnearyou.com/church/10863/service-and-events/events/
 1319628/
END:VEVENT
END:VCALENDAR
