BEGIN:VCALENDAR
VERSION:2.0
PRODID:-//achurchnearyou.com//eventfeed//EN
CALSCALE:GREGORIAN
METHOD:PUBLISH
X-WR-TIMEZONE:UTC
BEGIN:VEVENT
SUMMARY:Worship Together
DTSTART:20260412T081500Z
DTEND:20260412T091500Z
DTSTAMP:20260420T194440Z
UID:12899392026-04-12 08:15:00+00:00achurchnearyou
CATEGORIES:
DESCRIPTION:United benefice service at Allerton Church.
LOCATION:Allerton
URL:https://www.achurchnearyou.com/church/10884/service-and-events/events/
 1289939/
END:VEVENT
END:VCALENDAR
