BEGIN:VCALENDAR
VERSION:2.0
PRODID:-//achurchnearyou.com//eventfeed//EN
CALSCALE:GREGORIAN
METHOD:PUBLISH
X-WR-TIMEZONE:UTC
BEGIN:VEVENT
SUMMARY:Special church service celebrating our VE Day collage of the villa
 ge
DTSTART;TZID=Europe/London:20250504T103000
DTEND;TZID=Europe/London:20250504T120000
DTSTAMP:20260423T091403Z
UID:11900612025-05-04 10:30:00+01:00achurchnearyou
CATEGORIES:
DESCRIPTION:Celebration of our village and collage\, which was made to mar
 k the 50th commemoration of VE day in 1995.  Its now 30 years old!
GEO:-2.485447;51.123972
LOCATION:St Mary & St John\, Lamyatt
URL:https://www.achurchnearyou.com/church/10898/service-and-events/events/
 1190061/
END:VEVENT
END:VCALENDAR
