BEGIN:VCALENDAR
VERSION:2.0
PRODID:-//achurchnearyou.com//eventfeed//EN
CALSCALE:GREGORIAN
METHOD:PUBLISH
X-WR-TIMEZONE:UTC
BEGIN:VEVENT
SUMMARY:Harvest
DTSTART:20251005T103000Z
DTEND:20251005T111500Z
DTSTAMP:20260422T194634Z
UID:7635872025-10-05 10:30:00+00:00achurchnearyou
CATEGORIES:
DESCRIPTION:Come and celebrate with us
GEO:-2.485447;51.123972
LOCATION:St Mary & St John\, Lamyatt
URL:https://www.achurchnearyou.com/church/10898/service-and-events/events/
 763587/
END:VEVENT
END:VCALENDAR
