BEGIN:VCALENDAR
VERSION:2.0
PRODID:-//achurchnearyou.com//eventfeed//EN
CALSCALE:GREGORIAN
METHOD:PUBLISH
X-WR-TIMEZONE:UTC
BEGIN:VEVENT
SUMMARY:Holy Communion
DTSTART;TZID=Europe/London:20250706T083000
DTEND;TZID=Europe/London:20250706T091500
DTSTAMP:20260424T222918Z
UID:12105522025-07-06 08:30:00+01:00achurchnearyou
CATEGORIES:
DESCRIPTION:A spoken service without music\, according to the 1662 Book of
  Common Prayer
GEO:-2.518023;51.094328
LOCATION:St Andrew's
URL:https://www.achurchnearyou.com/church/10915/service-and-events/events/
 1210552/
END:VEVENT
BEGIN:VEVENT
SUMMARY:Holy Communion
DTSTART;TZID=Europe/London:20250713T083000
DTEND;TZID=Europe/London:20250713T091500
DTSTAMP:20260424T222918Z
UID:12105522025-07-13 08:30:00+01:00achurchnearyou
CATEGORIES:
DESCRIPTION:A spoken service without music\, according to the 1662 Book of
  Common Prayer
GEO:-2.518023;51.094328
LOCATION:St Andrew's
URL:https://www.achurchnearyou.com/church/10915/service-and-events/events/
 1210552/
END:VEVENT
BEGIN:VEVENT
SUMMARY:Holy Communion
DTSTART;TZID=Europe/London:20250720T083000
DTEND;TZID=Europe/London:20250720T091500
DTSTAMP:20260424T222918Z
UID:12105522025-07-20 08:30:00+01:00achurchnearyou
CATEGORIES:
DESCRIPTION:A spoken service without music\, according to the 1662 Book of
  Common Prayer
GEO:-2.518023;51.094328
LOCATION:St Andrew's
URL:https://www.achurchnearyou.com/church/10915/service-and-events/events/
 1210552/
END:VEVENT
BEGIN:VEVENT
SUMMARY:Holy Communion
DTSTART;TZID=Europe/London:20250803T083000
DTEND;TZID=Europe/London:20250803T091500
DTSTAMP:20260424T222918Z
UID:12105522025-08-03 08:30:00+01:00achurchnearyou
CATEGORIES:
DESCRIPTION:A spoken service without music\, according to the 1662 Book of
  Common Prayer
GEO:-2.518023;51.094328
LOCATION:St Andrew's
URL:https://www.achurchnearyou.com/church/10915/service-and-events/events/
 1210552/
END:VEVENT
BEGIN:VEVENT
SUMMARY:Holy Communion
DTSTART;TZID=Europe/London:20250817T083000
DTEND;TZID=Europe/London:20250817T091500
DTSTAMP:20260424T222918Z
UID:12105522025-08-17 08:30:00+01:00achurchnearyou
CATEGORIES:
DESCRIPTION:A spoken service without music\, according to the 1662 Book of
  Common Prayer
GEO:-2.518023;51.094328
LOCATION:St Andrew's
URL:https://www.achurchnearyou.com/church/10915/service-and-events/events/
 1210552/
END:VEVENT
BEGIN:VEVENT
SUMMARY:Holy Communion
DTSTART;TZID=Europe/London:20250831T083000
DTEND;TZID=Europe/London:20250831T091500
DTSTAMP:20260424T222918Z
UID:12105522025-08-31 08:30:00+01:00achurchnearyou
CATEGORIES:
DESCRIPTION:A spoken service without music\, according to the 1662 Book of
  Common Prayer
GEO:-2.518023;51.094328
LOCATION:St Andrew's
URL:https://www.achurchnearyou.com/church/10915/service-and-events/events/
 1210552/
END:VEVENT
END:VCALENDAR
