BEGIN:VCALENDAR
VERSION:2.0
PRODID:-//achurchnearyou.com//eventfeed//EN
CALSCALE:GREGORIAN
METHOD:PUBLISH
X-WR-TIMEZONE:UTC
BEGIN:VEVENT
SUMMARY:Parish Eucharist
DTSTART;TZID=Europe/London:20250427T100000
DTEND;TZID=Europe/London:20250427T110000
DTSTAMP:20260425T050533Z
UID:7626402025-04-27 10:00:00+01:00achurchnearyou
CATEGORIES:
DESCRIPTION:Eucharist following the liturgy of Common Worship\, including 
 hymns.
GEO:-2.518023;51.094328
LOCATION:St Andrew's
URL:https://www.achurchnearyou.com/church/10915/service-and-events/events/
 762640/
END:VEVENT
BEGIN:VEVENT
SUMMARY:Parish Eucharist
DTSTART;TZID=Europe/London:20250525T100000
DTEND;TZID=Europe/London:20250525T110000
DTSTAMP:20260425T050533Z
UID:7626402025-05-25 10:00:00+01:00achurchnearyou
CATEGORIES:
DESCRIPTION:Eucharist following the liturgy of Common Worship\, including 
 hymns.
GEO:-2.518023;51.094328
LOCATION:St Andrew's
URL:https://www.achurchnearyou.com/church/10915/service-and-events/events/
 762640/
END:VEVENT
BEGIN:VEVENT
SUMMARY:Parish Eucharist
DTSTART;TZID=Europe/London:20250608T100000
DTEND;TZID=Europe/London:20250608T110000
DTSTAMP:20260425T050533Z
UID:7626402025-06-08 10:00:00+01:00achurchnearyou
CATEGORIES:
DESCRIPTION:Eucharist following the liturgy of Common Worship\, including 
 hymns.
GEO:-2.518023;51.094328
LOCATION:St Andrew's
URL:https://www.achurchnearyou.com/church/10915/service-and-events/events/
 762640/
END:VEVENT
BEGIN:VEVENT
SUMMARY:Parish Eucharist
DTSTART;TZID=Europe/London:20250622T100000
DTEND;TZID=Europe/London:20250622T110000
DTSTAMP:20260425T050533Z
UID:7626402025-06-22 10:00:00+01:00achurchnearyou
CATEGORIES:
DESCRIPTION:Eucharist following the liturgy of Common Worship\, including 
 hymns.
GEO:-2.518023;51.094328
LOCATION:St Andrew's
URL:https://www.achurchnearyou.com/church/10915/service-and-events/events/
 762640/
END:VEVENT
END:VCALENDAR
