BEGIN:VCALENDAR
VERSION:2.0
PRODID:-//achurchnearyou.com//eventfeed//EN
CALSCALE:GREGORIAN
METHOD:PUBLISH
X-WR-TIMEZONE:UTC
BEGIN:VEVENT
SUMMARY:Holy Communion according to the 1662 Prayer Book at All Saints' Ch
 urch\, Castle Cary
DTSTART;TZID=Europe/London:20250427T083000
DTEND;TZID=Europe/London:20250427T091500
DTSTAMP:20260419T145127Z
UID:7626342025-04-27 08:30:00+01:00achurchnearyou
CATEGORIES:
DESCRIPTION:A quiet service with no music\, following the liturgy of the 1
 662 prayer book.
GEO:-2.51662;51.086663
LOCATION:All Saints'
URL:https://castlecaryallsaints.org.uk/services/
END:VEVENT
BEGIN:VEVENT
SUMMARY:Holy Communion according to the 1662 Prayer Book at All Saints' Ch
 urch\, Castle Cary
DTSTART;TZID=Europe/London:20250511T083000
DTEND;TZID=Europe/London:20250511T091500
DTSTAMP:20260419T145127Z
UID:7626342025-05-11 08:30:00+01:00achurchnearyou
CATEGORIES:
DESCRIPTION:A quiet service with no music\, following the liturgy of the 1
 662 prayer book.
GEO:-2.51662;51.086663
LOCATION:All Saints'
URL:https://castlecaryallsaints.org.uk/services/
END:VEVENT
BEGIN:VEVENT
SUMMARY:Holy Communion according to the 1662 Prayer Book at All Saints' Ch
 urch\, Castle Cary
DTSTART;TZID=Europe/London:20250525T083000
DTEND;TZID=Europe/London:20250525T091500
DTSTAMP:20260419T145127Z
UID:7626342025-05-25 08:30:00+01:00achurchnearyou
CATEGORIES:
DESCRIPTION:A quiet service with no music\, following the liturgy of the 1
 662 prayer book.
GEO:-2.51662;51.086663
LOCATION:All Saints'
URL:https://castlecaryallsaints.org.uk/services/
END:VEVENT
BEGIN:VEVENT
SUMMARY:Holy Communion according to the 1662 Prayer Book at All Saints' Ch
 urch\, Castle Cary
DTSTART;TZID=Europe/London:20250608T083000
DTEND;TZID=Europe/London:20250608T091500
DTSTAMP:20260419T145127Z
UID:7626342025-06-08 08:30:00+01:00achurchnearyou
CATEGORIES:
DESCRIPTION:A quiet service with no music\, following the liturgy of the 1
 662 prayer book.
GEO:-2.51662;51.086663
LOCATION:All Saints'
URL:https://castlecaryallsaints.org.uk/services/
END:VEVENT
BEGIN:VEVENT
SUMMARY:Holy Communion according to the 1662 Prayer Book at All Saints' Ch
 urch\, Castle Cary
DTSTART;TZID=Europe/London:20250622T083000
DTEND;TZID=Europe/London:20250622T091500
DTSTAMP:20260419T145127Z
UID:7626342025-06-22 08:30:00+01:00achurchnearyou
CATEGORIES:
DESCRIPTION:A quiet service with no music\, following the liturgy of the 1
 662 prayer book.
GEO:-2.51662;51.086663
LOCATION:All Saints'
URL:https://castlecaryallsaints.org.uk/services/
END:VEVENT
END:VCALENDAR
