BEGIN:VCALENDAR
VERSION:2.0
PRODID:-//achurchnearyou.com//eventfeed//EN
CALSCALE:GREGORIAN
METHOD:PUBLISH
X-WR-TIMEZONE:UTC
BEGIN:VEVENT
SUMMARY:Palm Sunday Donkey Procession and Informal Service
DTSTART:20250413T094500Z
DTEND:20250413T104500Z
DTSTAMP:20260419T202919Z
UID:8188012025-04-13 09:45:00+00:00achurchnearyou
CATEGORIES:
DESCRIPTION:A procession with donkeys from Weston Bampfylde Village Hall f
 ollowed by an informal service at Weston Bampfylde Church for all in the V
 ale of Camelot Churches on Palm Sunday.
LOCATION:Weston Bampfylde Village Hall and Church
URL:https://www.achurchnearyou.com/church/10932/service-and-events/events/
 818801/
END:VEVENT
END:VCALENDAR
