BEGIN:VCALENDAR
VERSION:2.0
PRODID:-//achurchnearyou.com//eventfeed//EN
CALSCALE:GREGORIAN
METHOD:PUBLISH
X-WR-TIMEZONE:UTC
BEGIN:VEVENT
SUMMARY:Evening contemplative service
DTSTART:20250126T180000Z
DTEND:20250126T190000Z
DTSTAMP:20260419T221037Z
UID:10895512025-01-26 18:00:00+00:00achurchnearyou
CATEGORIES:
DESCRIPTION:Contemplative service inspired by Iona and Taizé.
GEO:-2.352493;51.260023
LOCATION:St Michael's\, Buckland Dinham
URL:https://www.achurchnearyou.com/church/10938/service-and-events/events/
 1089551/
END:VEVENT
END:VCALENDAR
