BEGIN:VCALENDAR
VERSION:2.0
PRODID:-//achurchnearyou.com//eventfeed//EN
CALSCALE:GREGORIAN
METHOD:PUBLISH
X-WR-TIMEZONE:UTC
BEGIN:VEVENT
SUMMARY:CHRISTINGLE
DTSTART:20250119T103000Z
DTEND:20250119T113000Z
DTSTAMP:20260420T015035Z
UID:11377822025-01-19 10:30:00+00:00achurchnearyou
CATEGORIES:
DESCRIPTION:Family oriented informal service
GEO:-2.328372;51.30019
LOCATION:St Philip & St James\, Norton St Philip
URL:https://hardingtonvale.org.uk/
END:VEVENT
END:VCALENDAR
