BEGIN:VCALENDAR
VERSION:2.0
PRODID:-//achurchnearyou.com//eventfeed//EN
CALSCALE:GREGORIAN
METHOD:PUBLISH
X-WR-TIMEZONE:UTC
BEGIN:VEVENT
SUMMARY:Stations of the Cross
DTSTART:20230404T180000Z
DTEND:20230404T190000Z
DTSTAMP:20260421T133724Z
UID:9251242023-04-04 18:00:00+00:00achurchnearyou
CATEGORIES:
DESCRIPTION:This devotional service will follow the journey of Jesus to th
 e cross. It is a time in Holy Week when we can reflect on the Easter story
  as events unfolded. This year\, through readings\, prayers and stories\, 
 parallels will be drawn from the suffering of Jesus and the suffering of t
 he people of Bangladesh today. We would love you to join us at St. Mary's\
 , Shapwick. Tuesday 4th April at 7.0pm. The service will last just about a
 n hour.
LOCATION:The Blessed Virgin Mary
URL:https://www.achurchnearyou.com/church/10973/service-and-events/events/
 925124/
END:VEVENT
END:VCALENDAR
