BEGIN:VCALENDAR
VERSION:2.0
PRODID:-//achurchnearyou.com//eventfeed//EN
CALSCALE:GREGORIAN
METHOD:PUBLISH
X-WR-TIMEZONE:UTC
BEGIN:VEVENT
SUMMARY:Maundy Thursday Benefice Holy Communion at West Pennard
DTSTART:20250417T173000Z
DTEND:20250417T183000Z
DTSTAMP:20260420T184820Z
UID:11492982025-04-17 17:30:00+00:00achurchnearyou
CATEGORIES:
DESCRIPTION:.
LOCATION:St. Nicholas' church\, West Pennard
URL:https://www.achurchnearyou.com/church/10974/service-and-events/events/
 1149298/
END:VEVENT
END:VCALENDAR
