BEGIN:VCALENDAR
VERSION:2.0
PRODID:-//achurchnearyou.com//eventfeed//EN
CALSCALE:GREGORIAN
METHOD:PUBLISH
X-WR-TIMEZONE:UTC
BEGIN:VEVENT
SUMMARY:School Easter Service
DTSTART;TZID=Europe/London:20260401T140000
DTEND;TZID=Europe/London:20260401T150000
DTSTAMP:20260423T172446Z
UID:12812201775048400.0achurchnearyou
CATEGORIES:
DESCRIPTION:West Pennard Church School Easter Service
GEO:-2.641519;51.141789
LOCATION:St Nicholas Parish Church\, West Pennard
URL:https://www.achurchnearyou.com/church/10986/service-and-events/events/
 1281220/
END:VEVENT
BEGIN:VEVENT
SUMMARY:Maundy Thursday Benefice Holy Communion
DTSTART;TZID=Europe/London:20260402T063000
DTEND;TZID=Europe/London:20260402T073000
DTSTAMP:20260423T172446Z
UID:9017531775107800.0achurchnearyou
CATEGORIES:
DESCRIPTION:Commemoration of the Last Supper - Altar is Stripped
GEO:-2.641519;51.141789
LOCATION:St Nicholas Parish Church\, West Pennard
URL:https://www.achurchnearyou.com/church/10986/service-and-events/events/
 901753/
END:VEVENT
BEGIN:VEVENT
SUMMARY:Good Friday Procession
DTSTART;TZID=Europe/London:20260403T100000
DTEND;TZID=Europe/London:20260403T105000
DTSTAMP:20260423T172446Z
UID:4445651775206800.0achurchnearyou
CATEGORIES:
DESCRIPTION:10AM Procession from Baltonsbourough to Butleight  Service at 
 Baltonsborough at 11AM   No service at West Pennard.
LOCATION:Butleigh to Baltonsbourough procession
URL:https://www.achurchnearyou.com/church/10986/service-and-events/events/
 444565/
END:VEVENT
BEGIN:VEVENT
SUMMARY:Good Friday Service
DTSTART;TZID=Europe/London:20260403T110000
DTEND;TZID=Europe/London:20260403T120000
DTSTAMP:20260423T172446Z
UID:12812191775210400.0achurchnearyou
CATEGORIES:
DESCRIPTION:Benefice Service at Butleigh after procession from Baltonsbour
 ough
LOCATION:Baltonsborough
URL:https://www.achurchnearyou.com/church/10986/service-and-events/events/
 1281219/
END:VEVENT
BEGIN:VEVENT
SUMMARY:Last Hour at the Cross
DTSTART;TZID=Europe/London:20260403T140000
DTEND;TZID=Europe/London:20260403T150000
DTSTAMP:20260423T172446Z
UID:10329991775221200.0achurchnearyou
CATEGORIES:
DESCRIPTION:Service for Last Hour at the Cross
LOCATION:West Bradley
URL:https://www.achurchnearyou.com/church/10986/service-and-events/events/
 1032999/
END:VEVENT
BEGIN:VEVENT
SUMMARY:Easter Communion
DTSTART;TZID=Europe/London:20260405T110000
DTEND;TZID=Europe/London:20260405T120000
DTSTAMP:20260423T172446Z
UID:7994781775383200.0achurchnearyou
CATEGORIES:
DESCRIPTION:.
GEO:-2.641519;51.141789
LOCATION:St Nicholas Parish Church\, West Pennard
URL:https://www.achurchnearyou.com/church/10986/service-and-events/events/
 799478/
END:VEVENT
BEGIN:VEVENT
SUMMARY:Modern Language Parish Communion  at 930AM
DTSTART;TZID=Europe/London:20260412T093000
DTEND;TZID=Europe/London:20260412T103000
DTSTAMP:20260423T172446Z
UID:11351981775982600.0achurchnearyou
CATEGORIES:
DESCRIPTION:Holy Communion with Modern Language at 9:30AM -  Held the seco
 nd Sunday of the month Service Usually held at 9:30 AM with modern languag
 e except in months of January\, May and September when held at 4 PM using 
 Book of Common Prayer.
LOCATION:St Nicholas Parish Church\, West Pennard
URL:https://www.achurchnearyou.com/church/10986/service-and-events/events/
 1135198/
END:VEVENT
BEGIN:VEVENT
SUMMARY:All Age Parish Communion
DTSTART;TZID=Europe/London:20260426T110000
DTEND;TZID=Europe/London:20260426T120000
DTSTAMP:20260423T172446Z
UID:6756451777197600.0achurchnearyou
CATEGORIES:
DESCRIPTION:.Parish Communion using modern language for all ages but child
  friendly and child centred.
GEO:-2.641519;51.141789
LOCATION:St Nicholas Parish Church\, West Pennard
URL:https://www.achurchnearyou.com/church/10986/service-and-events/events/
 675645/
END:VEVENT
BEGIN:VEVENT
SUMMARY:Book of Common Prayer Parish Communion  at 4PM
DTSTART;TZID=Europe/London:20260510T160000
DTEND;TZID=Europe/London:20260510T170000
DTSTAMP:20260423T172446Z
UID:3782131778425200.0achurchnearyou
CATEGORIES:
DESCRIPTION:Holy Communion with Modern Language at 9:30AM -  Held the seco
 nd Sunday of the month Service Usually held at 9:30 AM with modern languag
 e except in months of January\, May and September when held at 4 PM using 
 Book of Common Prayer.
GEO:-2.641519;51.141789
LOCATION:St Nicholas Parish Church\, West Pennard
URL:https://www.achurchnearyou.com/church/10986/service-and-events/events/
 378213/
END:VEVENT
BEGIN:VEVENT
SUMMARY:Whit Sunday
DTSTART;TZID=Europe/London:20260524T110000
DTEND;TZID=Europe/London:20260524T120000
DTSTAMP:20260423T172446Z
UID:9488011779616800.0achurchnearyou
CATEGORIES:
DESCRIPTION:Seventh Sunday after Easter\, a Christian festival commemorati
 ng the descent of the Holy Spirit at Pentecost (Acts 2).
GEO:-2.641519;51.141789
LOCATION:St Nicholas Parish Church\, West Pennard
URL:https://www.achurchnearyou.com/church/10986/service-and-events/events/
 948801/
END:VEVENT
BEGIN:VEVENT
SUMMARY:Parish Communion in Summer
DTSTART;TZID=Europe/London:20260614T093000
DTEND;TZID=Europe/London:20260614T101500
DTSTAMP:20260423T172446Z
UID:3928151781425800.0achurchnearyou
CATEGORIES:
DESCRIPTION:Holy Communion  at 9\;30AM.   Held only during the months of J
 une\, July\, and October.   Usually held on second Sunday service.   In ot
 her months\, second Sunday service is Holy Communion at 11AM using Modern 
 Language.
GEO:-2.641519;51.141789
LOCATION:St Nicholas Parish Church\, West Pennard
URL:https://www.achurchnearyou.com/church/10986/service-and-events/events/
 392815/
END:VEVENT
BEGIN:VEVENT
SUMMARY:All Age Parish Communion
DTSTART;TZID=Europe/London:20260628T110000
DTEND;TZID=Europe/London:20260628T120000
DTSTAMP:20260423T172446Z
UID:6756451782640800.0achurchnearyou
CATEGORIES:
DESCRIPTION:.Parish Communion using modern language for all ages but child
  friendly and child centred.
GEO:-2.641519;51.141789
LOCATION:St Nicholas Parish Church\, West Pennard
URL:https://www.achurchnearyou.com/church/10986/service-and-events/events/
 675645/
END:VEVENT
BEGIN:VEVENT
SUMMARY:Parish Communion in Summer
DTSTART;TZID=Europe/London:20260712T093000
DTEND;TZID=Europe/London:20260712T101500
DTSTAMP:20260423T172446Z
UID:3928151783845000.0achurchnearyou
CATEGORIES:
DESCRIPTION:Holy Communion  at 9\;30AM.   Held only during the months of J
 une\, July\, and October.   Usually held on second Sunday service.   In ot
 her months\, second Sunday service is Holy Communion at 11AM using Modern 
 Language.
GEO:-2.641519;51.141789
LOCATION:St Nicholas Parish Church\, West Pennard
URL:https://www.achurchnearyou.com/church/10986/service-and-events/events/
 392815/
END:VEVENT
BEGIN:VEVENT
SUMMARY:School Leaver's Service
DTSTART;TZID=Europe/London:20260715T140000
DTEND;TZID=Europe/London:20260715T150000
DTSTAMP:20260423T172446Z
UID:13237601784120400.0achurchnearyou
CATEGORIES:
DESCRIPTION:For West Pennard Church of England School Leavers and their pa
 rents\, grandparents\, etc.
GEO:-2.641519;51.141789
LOCATION:St Nicholas Parish Church\, West Pennard
URL:https://www.achurchnearyou.com/church/10986/service-and-events/events/
 1323760/
END:VEVENT
BEGIN:VEVENT
SUMMARY:All Age Parish Communion
DTSTART;TZID=Europe/London:20260726T110000
DTEND;TZID=Europe/London:20260726T120000
DTSTAMP:20260423T172446Z
UID:6756451785060000.0achurchnearyou
CATEGORIES:
DESCRIPTION:.Parish Communion using modern language for all ages but child
  friendly and child centred.
GEO:-2.641519;51.141789
LOCATION:St Nicholas Parish Church\, West Pennard
URL:https://www.achurchnearyou.com/church/10986/service-and-events/events/
 675645/
END:VEVENT
BEGIN:VEVENT
SUMMARY:Benefice Communion at Baltonsborough
DTSTART;TZID=Europe/London:20260816T100000
DTEND;TZID=Europe/London:20260816T110000
DTSTAMP:20260423T172446Z
UID:4625711786870800.0achurchnearyou
CATEGORIES:
DESCRIPTION:Benefice Holy Communion using Modern Language
LOCATION:West Pennard
URL:https://www.achurchnearyou.com/church/10986/service-and-events/events/
 462571/
END:VEVENT
BEGIN:VEVENT
SUMMARY:Book of Common Prayer Parish Communion  at 4PM
DTSTART;TZID=Europe/London:20260913T160000
DTEND;TZID=Europe/London:20260913T170000
DTSTAMP:20260423T172446Z
UID:3782131789311600.0achurchnearyou
CATEGORIES:
DESCRIPTION:Holy Communion with Modern Language at 9:30AM -  Held the seco
 nd Sunday of the month Service Usually held at 9:30 AM with modern languag
 e except in months of January\, May and September when held at 4 PM using 
 Book of Common Prayer.
GEO:-2.641519;51.141789
LOCATION:St Nicholas Parish Church\, West Pennard
URL:https://www.achurchnearyou.com/church/10986/service-and-events/events/
 378213/
END:VEVENT
END:VCALENDAR
