BEGIN:VCALENDAR
VERSION:2.0
PRODID:-//achurchnearyou.com//eventfeed//EN
CALSCALE:GREGORIAN
METHOD:PUBLISH
X-WR-TIMEZONE:UTC
BEGIN:VEVENT
SUMMARY:Morning Worship
DTSTART;TZID=Europe/London:20260405T100000
DTEND;TZID=Europe/London:20260405T110000
DTSTAMP:20260424T024448Z
UID:7828191775379600.0achurchnearyou
CATEGORIES:
DESCRIPTION:A service of worship
GEO:-2.744733;51.089714
LOCATION:St Andrew's Compton Dundon
URL:https://www.achurchnearyou.com/church/10994/service-and-events/events/
 782819/
END:VEVENT
BEGIN:VEVENT
SUMMARY:Communion
DTSTART;TZID=Europe/London:20260412T100000
DTEND;TZID=Europe/London:20260412T110000
DTSTAMP:20260424T024448Z
UID:7828151775984400.0achurchnearyou
CATEGORIES:
DESCRIPTION:A service of Holy Communion
GEO:-2.744733;51.089714
LOCATION:St Andrew's Compton Dundon
URL:https://www.achurchnearyou.com/church/10994/service-and-events/events/
 782815/
END:VEVENT
BEGIN:VEVENT
SUMMARY:Morning Worship
DTSTART;TZID=Europe/London:20260412T100000
DTEND;TZID=Europe/London:20260412T110000
DTSTAMP:20260424T024448Z
UID:7828191775984400.0achurchnearyou
CATEGORIES:
DESCRIPTION:A service of worship
GEO:-2.744733;51.089714
LOCATION:St Andrew's Compton Dundon
URL:https://www.achurchnearyou.com/church/10994/service-and-events/events/
 782819/
END:VEVENT
BEGIN:VEVENT
SUMMARY:Morning Worship
DTSTART;TZID=Europe/London:20260419T100000
DTEND;TZID=Europe/London:20260419T110000
DTSTAMP:20260424T024448Z
UID:7828191776589200.0achurchnearyou
CATEGORIES:
DESCRIPTION:A service of worship
GEO:-2.744733;51.089714
LOCATION:St Andrew's Compton Dundon
URL:https://www.achurchnearyou.com/church/10994/service-and-events/events/
 782819/
END:VEVENT
BEGIN:VEVENT
SUMMARY:Communion
DTSTART;TZID=Europe/London:20260426T100000
DTEND;TZID=Europe/London:20260426T110000
DTSTAMP:20260424T024448Z
UID:7828151777194000.0achurchnearyou
CATEGORIES:
DESCRIPTION:A service of Holy Communion
GEO:-2.744733;51.089714
LOCATION:St Andrew's Compton Dundon
URL:https://www.achurchnearyou.com/church/10994/service-and-events/events/
 782815/
END:VEVENT
BEGIN:VEVENT
SUMMARY:Morning Worship
DTSTART;TZID=Europe/London:20260426T100000
DTEND;TZID=Europe/London:20260426T110000
DTSTAMP:20260424T024448Z
UID:7828191777194000.0achurchnearyou
CATEGORIES:
DESCRIPTION:A service of worship
GEO:-2.744733;51.089714
LOCATION:St Andrew's Compton Dundon
URL:https://www.achurchnearyou.com/church/10994/service-and-events/events/
 782819/
END:VEVENT
BEGIN:VEVENT
SUMMARY:Morning Worship
DTSTART;TZID=Europe/London:20260503T100000
DTEND;TZID=Europe/London:20260503T110000
DTSTAMP:20260424T024448Z
UID:7828191777798800.0achurchnearyou
CATEGORIES:
DESCRIPTION:A service of worship
GEO:-2.744733;51.089714
LOCATION:St Andrew's Compton Dundon
URL:https://www.achurchnearyou.com/church/10994/service-and-events/events/
 782819/
END:VEVENT
BEGIN:VEVENT
SUMMARY:Communion
DTSTART;TZID=Europe/London:20260510T100000
DTEND;TZID=Europe/London:20260510T110000
DTSTAMP:20260424T024448Z
UID:7828151778403600.0achurchnearyou
CATEGORIES:
DESCRIPTION:A service of Holy Communion
GEO:-2.744733;51.089714
LOCATION:St Andrew's Compton Dundon
URL:https://www.achurchnearyou.com/church/10994/service-and-events/events/
 782815/
END:VEVENT
BEGIN:VEVENT
SUMMARY:Morning Worship
DTSTART;TZID=Europe/London:20260510T100000
DTEND;TZID=Europe/London:20260510T110000
DTSTAMP:20260424T024448Z
UID:7828191778403600.0achurchnearyou
CATEGORIES:
DESCRIPTION:A service of worship
GEO:-2.744733;51.089714
LOCATION:St Andrew's Compton Dundon
URL:https://www.achurchnearyou.com/church/10994/service-and-events/events/
 782819/
END:VEVENT
BEGIN:VEVENT
SUMMARY:Morning Worship
DTSTART;TZID=Europe/London:20260517T100000
DTEND;TZID=Europe/London:20260517T110000
DTSTAMP:20260424T024448Z
UID:7828191779008400.0achurchnearyou
CATEGORIES:
DESCRIPTION:A service of worship
GEO:-2.744733;51.089714
LOCATION:St Andrew's Compton Dundon
URL:https://www.achurchnearyou.com/church/10994/service-and-events/events/
 782819/
END:VEVENT
BEGIN:VEVENT
SUMMARY:Communion
DTSTART;TZID=Europe/London:20260524T100000
DTEND;TZID=Europe/London:20260524T110000
DTSTAMP:20260424T024448Z
UID:7828151779613200.0achurchnearyou
CATEGORIES:
DESCRIPTION:A service of Holy Communion
GEO:-2.744733;51.089714
LOCATION:St Andrew's Compton Dundon
URL:https://www.achurchnearyou.com/church/10994/service-and-events/events/
 782815/
END:VEVENT
BEGIN:VEVENT
SUMMARY:Morning Worship
DTSTART;TZID=Europe/London:20260524T100000
DTEND;TZID=Europe/London:20260524T110000
DTSTAMP:20260424T024448Z
UID:7828191779613200.0achurchnearyou
CATEGORIES:
DESCRIPTION:A service of worship
GEO:-2.744733;51.089714
LOCATION:St Andrew's Compton Dundon
URL:https://www.achurchnearyou.com/church/10994/service-and-events/events/
 782819/
END:VEVENT
BEGIN:VEVENT
SUMMARY:Morning Worship
DTSTART;TZID=Europe/London:20260531T100000
DTEND;TZID=Europe/London:20260531T110000
DTSTAMP:20260424T024448Z
UID:7828191780218000.0achurchnearyou
CATEGORIES:
DESCRIPTION:A service of worship
GEO:-2.744733;51.089714
LOCATION:St Andrew's Compton Dundon
URL:https://www.achurchnearyou.com/church/10994/service-and-events/events/
 782819/
END:VEVENT
BEGIN:VEVENT
SUMMARY:Morning Worship
DTSTART;TZID=Europe/London:20260607T100000
DTEND;TZID=Europe/London:20260607T110000
DTSTAMP:20260424T024448Z
UID:7828191780822800.0achurchnearyou
CATEGORIES:
DESCRIPTION:A service of worship
GEO:-2.744733;51.089714
LOCATION:St Andrew's Compton Dundon
URL:https://www.achurchnearyou.com/church/10994/service-and-events/events/
 782819/
END:VEVENT
BEGIN:VEVENT
SUMMARY:Communion
DTSTART;TZID=Europe/London:20260614T100000
DTEND;TZID=Europe/London:20260614T110000
DTSTAMP:20260424T024448Z
UID:7828151781427600.0achurchnearyou
CATEGORIES:
DESCRIPTION:A service of Holy Communion
GEO:-2.744733;51.089714
LOCATION:St Andrew's Compton Dundon
URL:https://www.achurchnearyou.com/church/10994/service-and-events/events/
 782815/
END:VEVENT
BEGIN:VEVENT
SUMMARY:Morning Worship
DTSTART;TZID=Europe/London:20260614T100000
DTEND;TZID=Europe/London:20260614T110000
DTSTAMP:20260424T024448Z
UID:7828191781427600.0achurchnearyou
CATEGORIES:
DESCRIPTION:A service of worship
GEO:-2.744733;51.089714
LOCATION:St Andrew's Compton Dundon
URL:https://www.achurchnearyou.com/church/10994/service-and-events/events/
 782819/
END:VEVENT
BEGIN:VEVENT
SUMMARY:Morning Worship
DTSTART;TZID=Europe/London:20260621T100000
DTEND;TZID=Europe/London:20260621T110000
DTSTAMP:20260424T024448Z
UID:7828191782032400.0achurchnearyou
CATEGORIES:
DESCRIPTION:A service of worship
GEO:-2.744733;51.089714
LOCATION:St Andrew's Compton Dundon
URL:https://www.achurchnearyou.com/church/10994/service-and-events/events/
 782819/
END:VEVENT
BEGIN:VEVENT
SUMMARY:Communion
DTSTART;TZID=Europe/London:20260628T100000
DTEND;TZID=Europe/London:20260628T110000
DTSTAMP:20260424T024448Z
UID:7828151782637200.0achurchnearyou
CATEGORIES:
DESCRIPTION:A service of Holy Communion
GEO:-2.744733;51.089714
LOCATION:St Andrew's Compton Dundon
URL:https://www.achurchnearyou.com/church/10994/service-and-events/events/
 782815/
END:VEVENT
BEGIN:VEVENT
SUMMARY:Morning Worship
DTSTART;TZID=Europe/London:20260628T100000
DTEND;TZID=Europe/London:20260628T110000
DTSTAMP:20260424T024448Z
UID:7828191782637200.0achurchnearyou
CATEGORIES:
DESCRIPTION:A service of worship
GEO:-2.744733;51.089714
LOCATION:St Andrew's Compton Dundon
URL:https://www.achurchnearyou.com/church/10994/service-and-events/events/
 782819/
END:VEVENT
BEGIN:VEVENT
SUMMARY:Morning Worship
DTSTART;TZID=Europe/London:20260705T100000
DTEND;TZID=Europe/London:20260705T110000
DTSTAMP:20260424T024448Z
UID:7828191783242000.0achurchnearyou
CATEGORIES:
DESCRIPTION:A service of worship
GEO:-2.744733;51.089714
LOCATION:St Andrew's Compton Dundon
URL:https://www.achurchnearyou.com/church/10994/service-and-events/events/
 782819/
END:VEVENT
BEGIN:VEVENT
SUMMARY:Communion
DTSTART;TZID=Europe/London:20260712T100000
DTEND;TZID=Europe/London:20260712T110000
DTSTAMP:20260424T024448Z
UID:7828151783846800.0achurchnearyou
CATEGORIES:
DESCRIPTION:A service of Holy Communion
GEO:-2.744733;51.089714
LOCATION:St Andrew's Compton Dundon
URL:https://www.achurchnearyou.com/church/10994/service-and-events/events/
 782815/
END:VEVENT
BEGIN:VEVENT
SUMMARY:Morning Worship
DTSTART;TZID=Europe/London:20260712T100000
DTEND;TZID=Europe/London:20260712T110000
DTSTAMP:20260424T024448Z
UID:7828191783846800.0achurchnearyou
CATEGORIES:
DESCRIPTION:A service of worship
GEO:-2.744733;51.089714
LOCATION:St Andrew's Compton Dundon
URL:https://www.achurchnearyou.com/church/10994/service-and-events/events/
 782819/
END:VEVENT
BEGIN:VEVENT
SUMMARY:Morning Worship
DTSTART;TZID=Europe/London:20260719T100000
DTEND;TZID=Europe/London:20260719T110000
DTSTAMP:20260424T024448Z
UID:7828191784451600.0achurchnearyou
CATEGORIES:
DESCRIPTION:A service of worship
GEO:-2.744733;51.089714
LOCATION:St Andrew's Compton Dundon
URL:https://www.achurchnearyou.com/church/10994/service-and-events/events/
 782819/
END:VEVENT
BEGIN:VEVENT
SUMMARY:Communion
DTSTART;TZID=Europe/London:20260726T100000
DTEND;TZID=Europe/London:20260726T110000
DTSTAMP:20260424T024448Z
UID:7828151785056400.0achurchnearyou
CATEGORIES:
DESCRIPTION:A service of Holy Communion
GEO:-2.744733;51.089714
LOCATION:St Andrew's Compton Dundon
URL:https://www.achurchnearyou.com/church/10994/service-and-events/events/
 782815/
END:VEVENT
BEGIN:VEVENT
SUMMARY:Morning Worship
DTSTART;TZID=Europe/London:20260726T100000
DTEND;TZID=Europe/London:20260726T110000
DTSTAMP:20260424T024448Z
UID:7828191785056400.0achurchnearyou
CATEGORIES:
DESCRIPTION:A service of worship
GEO:-2.744733;51.089714
LOCATION:St Andrew's Compton Dundon
URL:https://www.achurchnearyou.com/church/10994/service-and-events/events/
 782819/
END:VEVENT
BEGIN:VEVENT
SUMMARY:Morning Worship
DTSTART;TZID=Europe/London:20260802T100000
DTEND;TZID=Europe/London:20260802T110000
DTSTAMP:20260424T024448Z
UID:7828191785661200.0achurchnearyou
CATEGORIES:
DESCRIPTION:A service of worship
GEO:-2.744733;51.089714
LOCATION:St Andrew's Compton Dundon
URL:https://www.achurchnearyou.com/church/10994/service-and-events/events/
 782819/
END:VEVENT
BEGIN:VEVENT
SUMMARY:Communion
DTSTART;TZID=Europe/London:20260809T100000
DTEND;TZID=Europe/London:20260809T110000
DTSTAMP:20260424T024448Z
UID:7828151786266000.0achurchnearyou
CATEGORIES:
DESCRIPTION:A service of Holy Communion
GEO:-2.744733;51.089714
LOCATION:St Andrew's Compton Dundon
URL:https://www.achurchnearyou.com/church/10994/service-and-events/events/
 782815/
END:VEVENT
BEGIN:VEVENT
SUMMARY:Morning Worship
DTSTART;TZID=Europe/London:20260809T100000
DTEND;TZID=Europe/London:20260809T110000
DTSTAMP:20260424T024448Z
UID:7828191786266000.0achurchnearyou
CATEGORIES:
DESCRIPTION:A service of worship
GEO:-2.744733;51.089714
LOCATION:St Andrew's Compton Dundon
URL:https://www.achurchnearyou.com/church/10994/service-and-events/events/
 782819/
END:VEVENT
BEGIN:VEVENT
SUMMARY:Morning Worship
DTSTART;TZID=Europe/London:20260816T100000
DTEND;TZID=Europe/London:20260816T110000
DTSTAMP:20260424T024448Z
UID:7828191786870800.0achurchnearyou
CATEGORIES:
DESCRIPTION:A service of worship
GEO:-2.744733;51.089714
LOCATION:St Andrew's Compton Dundon
URL:https://www.achurchnearyou.com/church/10994/service-and-events/events/
 782819/
END:VEVENT
BEGIN:VEVENT
SUMMARY:Communion
DTSTART;TZID=Europe/London:20260823T100000
DTEND;TZID=Europe/London:20260823T110000
DTSTAMP:20260424T024448Z
UID:7828151787475600.0achurchnearyou
CATEGORIES:
DESCRIPTION:A service of Holy Communion
GEO:-2.744733;51.089714
LOCATION:St Andrew's Compton Dundon
URL:https://www.achurchnearyou.com/church/10994/service-and-events/events/
 782815/
END:VEVENT
BEGIN:VEVENT
SUMMARY:Morning Worship
DTSTART;TZID=Europe/London:20260823T100000
DTEND;TZID=Europe/London:20260823T110000
DTSTAMP:20260424T024448Z
UID:7828191787475600.0achurchnearyou
CATEGORIES:
DESCRIPTION:A service of worship
GEO:-2.744733;51.089714
LOCATION:St Andrew's Compton Dundon
URL:https://www.achurchnearyou.com/church/10994/service-and-events/events/
 782819/
END:VEVENT
BEGIN:VEVENT
SUMMARY:Morning Worship
DTSTART;TZID=Europe/London:20260830T100000
DTEND;TZID=Europe/London:20260830T110000
DTSTAMP:20260424T024448Z
UID:7828191788080400.0achurchnearyou
CATEGORIES:
DESCRIPTION:A service of worship
GEO:-2.744733;51.089714
LOCATION:St Andrew's Compton Dundon
URL:https://www.achurchnearyou.com/church/10994/service-and-events/events/
 782819/
END:VEVENT
BEGIN:VEVENT
SUMMARY:Morning Worship
DTSTART;TZID=Europe/London:20260906T100000
DTEND;TZID=Europe/London:20260906T110000
DTSTAMP:20260424T024448Z
UID:7828191788685200.0achurchnearyou
CATEGORIES:
DESCRIPTION:A service of worship
GEO:-2.744733;51.089714
LOCATION:St Andrew's Compton Dundon
URL:https://www.achurchnearyou.com/church/10994/service-and-events/events/
 782819/
END:VEVENT
BEGIN:VEVENT
SUMMARY:Communion
DTSTART;TZID=Europe/London:20260913T100000
DTEND;TZID=Europe/London:20260913T110000
DTSTAMP:20260424T024448Z
UID:7828151789290000.0achurchnearyou
CATEGORIES:
DESCRIPTION:A service of Holy Communion
GEO:-2.744733;51.089714
LOCATION:St Andrew's Compton Dundon
URL:https://www.achurchnearyou.com/church/10994/service-and-events/events/
 782815/
END:VEVENT
BEGIN:VEVENT
SUMMARY:Morning Worship
DTSTART;TZID=Europe/London:20260913T100000
DTEND;TZID=Europe/London:20260913T110000
DTSTAMP:20260424T024448Z
UID:7828191789290000.0achurchnearyou
CATEGORIES:
DESCRIPTION:A service of worship
GEO:-2.744733;51.089714
LOCATION:St Andrew's Compton Dundon
URL:https://www.achurchnearyou.com/church/10994/service-and-events/events/
 782819/
END:VEVENT
BEGIN:VEVENT
SUMMARY:Morning Worship
DTSTART;TZID=Europe/London:20260920T100000
DTEND;TZID=Europe/London:20260920T110000
DTSTAMP:20260424T024448Z
UID:7828191789894800.0achurchnearyou
CATEGORIES:
DESCRIPTION:A service of worship
GEO:-2.744733;51.089714
LOCATION:St Andrew's Compton Dundon
URL:https://www.achurchnearyou.com/church/10994/service-and-events/events/
 782819/
END:VEVENT
BEGIN:VEVENT
SUMMARY:Communion
DTSTART;TZID=Europe/London:20260927T100000
DTEND;TZID=Europe/London:20260927T110000
DTSTAMP:20260424T024448Z
UID:7828151790499600.0achurchnearyou
CATEGORIES:
DESCRIPTION:A service of Holy Communion
GEO:-2.744733;51.089714
LOCATION:St Andrew's Compton Dundon
URL:https://www.achurchnearyou.com/church/10994/service-and-events/events/
 782815/
END:VEVENT
BEGIN:VEVENT
SUMMARY:Morning Worship
DTSTART;TZID=Europe/London:20260927T100000
DTEND;TZID=Europe/London:20260927T110000
DTSTAMP:20260424T024448Z
UID:7828191790499600.0achurchnearyou
CATEGORIES:
DESCRIPTION:A service of worship
GEO:-2.744733;51.089714
LOCATION:St Andrew's Compton Dundon
URL:https://www.achurchnearyou.com/church/10994/service-and-events/events/
 782819/
END:VEVENT
END:VCALENDAR
