BEGIN:VCALENDAR
VERSION:2.0
PRODID:-//achurchnearyou.com//eventfeed//EN
CALSCALE:GREGORIAN
METHOD:PUBLISH
X-WR-TIMEZONE:UTC
BEGIN:VEVENT
SUMMARY:Benefice Communion in Holy Trinity Church\, Ash
DTSTART:20241229T110000Z
DTEND:20241229T120000Z
DTSTAMP:20260420T015025Z
UID:11439342024-12-29 11:00:00+00:00achurchnearyou
CATEGORIES:
DESCRIPTION:We invite you to a Benefice Service of Holy Communion on the F
 irst Sunday of Christmas 29 December at 11am in Holy Trinity church\, Ash.
LOCATION:Holy Trinity\, ASH
URL:https://www.achurchnearyou.com/church/11004/service-and-events/events/
 1143934/
END:VEVENT
END:VCALENDAR
