BEGIN:VCALENDAR
VERSION:2.0
PRODID:-//achurchnearyou.com//eventfeed//EN
CALSCALE:GREGORIAN
METHOD:PUBLISH
X-WR-TIMEZONE:UTC
BEGIN:VEVENT
SUMMARY:Marriage Service
DTSTART:20250502T123000Z
DTEND:20250502T133000Z
DTSTAMP:20260419T163955Z
UID:11800812025-05-02 12:30:00+00:00achurchnearyou
CATEGORIES:
DESCRIPTION:Friends and family come together for the marriage service for 
 Stephen Bowser and Elizabeth Allen in St Peter & St Paul's church\, Muchel
 ney
GEO:-2.815571;51.020673
LOCATION:St Peter & St Paul Muchelney
URL:https://www.achurchnearyou.com/church/11004/service-and-events/events/
 1180081/
END:VEVENT
END:VCALENDAR
