BEGIN:VCALENDAR
VERSION:2.0
PRODID:-//achurchnearyou.com//eventfeed//EN
CALSCALE:GREGORIAN
METHOD:PUBLISH
X-WR-TIMEZONE:UTC
BEGIN:VEVENT
SUMMARY:The Guardians' of All Saints' Church present:
DTSTART:20250327T193000Z
DTEND:20250327T213000Z
DTSTAMP:20260419T221037Z
UID:11509882025-03-27 19:30:00+00:00achurchnearyou
CATEGORIES:
DESCRIPTION:Somerset Opera performing HMS Pinafore on THURSDAY 27 MARCH 20
 25 at 7.30pm in All Saints' church. \nTickets £12 on the door or £10 in 
 advance from Martock Newsagent or Martock Gallery or 07547 213 992
GEO:-2.768783;50.969265
LOCATION:All Saints'
URL:https://www.achurchnearyou.com/church/11008/service-and-events/events/
 1150988/
END:VEVENT
END:VCALENDAR
