BEGIN:VCALENDAR
VERSION:2.0
PRODID:-//achurchnearyou.com//eventfeed//EN
CALSCALE:GREGORIAN
METHOD:PUBLISH
X-WR-TIMEZONE:UTC
BEGIN:VEVENT
SUMMARY:An Hour Around The Cross
DTSTART:20250418T130000Z
DTEND:20250418T140000Z
DTSTAMP:20260419T235840Z
UID:11776312025-04-18 13:00:00+00:00achurchnearyou
CATEGORIES:
DESCRIPTION:Join us for 'An Hour Around The Cross' of quiet meditation and
  prayer on GOOD FRIDAY 18 April 2025 at 2pm in Holy Trinity Church\, Ash.
LOCATION:Holy Trinity
URL:https://www.achurchnearyou.com/church/11008/service-and-events/events/
 1177631/
END:VEVENT
END:VCALENDAR
