BEGIN:VCALENDAR
VERSION:2.0
PRODID:-//achurchnearyou.com//eventfeed//EN
CALSCALE:GREGORIAN
METHOD:PUBLISH
X-WR-TIMEZONE:UTC
BEGIN:VEVENT
SUMMARY:EASTER Communion for all!
DTSTART:20250420T083000Z
DTEND:20250420T093000Z
DTSTAMP:20260419T203143Z
UID:11776392025-04-20 08:30:00+00:00achurchnearyou
CATEGORIES:
DESCRIPTION:We celebrate the Risen Christ with an EASTER COMMUNION SERVICE
  at 9.30am in All Saints' church\, Martock - hallelujah!!
GEO:-2.768783;50.969265
LOCATION:All Saints'
URL:https://www.achurchnearyou.com/church/11008/service-and-events/events/
 1177639/
END:VEVENT
END:VCALENDAR
